BEGIN:VCALENDAR
PRODID:NingEventWidget-v1
VERSION:2.0
METHOD:PUBLISH
BEGIN:VTIMEZONE
TZID:Europe/London
X-LIC-LOCATION:Europe/London
BEGIN:DAYLIGHT
TZOFFSETFROM:+0000
TZOFFSETTO:+0100
TZNAME:BST
DTSTART:19700329T010000
RRULE:FREQ=YEARLY;BYMONTH=3;BYDAY=-1SU
END:DAYLIGHT
BEGIN:STANDARD
TZOFFSETFROM:+0100
TZOFFSETTO:+0000
TZNAME:GMT
DTSTART:19701025T020000
RRULE:FREQ=YEARLY;BYMONTH=10;BYDAY=-1SU
END:STANDARD
END:VTIMEZONE
BEGIN:VEVENT
UID:4626108:Event:4378
DTSTAMP:20260424T205748Z
SUMMARY:LG Networking Morning, Mercedes Benz World, Weybridge
DESCRIPTION:LG Networking Morning at Mercedes Benz World, Weybridge\n\
 nCome and join us at the prestigious location of Mercedes Benz World, 
 Weybridge for LG Networking.\nAt each of these mixed networking events
  will be a compelling Speaker, who will be presenting on a subject tha
 t will assist you in growing your business. We are passionate about yo
 ur success, so it makes sense to offer you opportunities that provide 
 you with new insights and new resources to help you move your business
  forward. Build meaningful business relationships, exchange your busin
 ess cards and promote your products and services. We'll be sharing ide
 as and supporting each other and networking to connect you with others
  who can help you to develop the success of your business further.\nTo
 day's presentation is Sports Sponsorship: Myths, Motivation and Local 
 Grassroots Value by NiS Member Dean Faulkner of Isogon Marketing Group
 \n\nWhat is sponsorship? (and equally what sponsorship is not)\nSponso
 rship as part of the marketing mix\nChoosing what to sponsor - definin
 g target markets, matching opportunities etc.\nActivation and leverage
  (management) of sponsorship deals to get the best return on them\nCOS
 T: FREE to LG Members , £10 to non members.\nBOOK HERE Please give Ca
 therine Jackson a call on 01932 350 939 to book your place or email ca
 therine@lgnetworking.co.uk\nVENUE\nMAP & DIRECTIONS Mercedes Benz Worl
 d shares an entrance with Brooklands Museum on the roundabout at the t
 op of Sopwith Drive. Parking is ample and free.\n---------------------
 ----\nLG Networking has been created for successful business growth an
 d development by NiS Member Catherine Jackson. Our success lies in cre
 ating a networking organisation based on the principles of business ex
 change and a positive attitude of mutual support.\n\nFor more informat
 ion visit https://networkinginsurrey.co.uk/events/lg-networking-mornin
 g-mercedes-6
DTSTART;TZID=Europe/London:20101105T110000
DTEND;TZID=Europe/London:20101105T123000
CATEGORIES:morning, weybridge, business_networking_surrey, lg_networki
 ng
LOCATION:Mercedes Benz World, Weybridge KT13 0SL
WEBSITE:http://lgnetworking.co.uk/
URL:http://lgnetworking.co.uk/
CONTACT:01932 350 939
ORGANIZER:Catherine Jackson
ATTACH;FMTTYPE="image/jpeg":http://storage.ning.com/topology/rest/1.0/
 file/get/2591375239?profile=original
ATTENDEE;ROLE=REQ-PARTICIPANT;PARTSTAT=ACCEPTED;RSVP=TRUE;CN="Keith Gr
 over, NiS Founder":https://networkinginsurrey.co.uk/profile/KeithGrove
 r
ATTENDEE;ROLE=REQ-PARTICIPANT;PARTSTAT=TENTATIVE;RSVP=TRUE;CN="Annie H
 eggie":https://networkinginsurrey.co.uk/profile/Annie
END:VEVENT
END:VCALENDAR
