BEGIN:VCALENDAR
PRODID:NingEventWidget-v1
VERSION:2.0
METHOD:PUBLISH
BEGIN:VTIMEZONE
TZID:Europe/London
X-LIC-LOCATION:Europe/London
BEGIN:DAYLIGHT
TZOFFSETFROM:+0000
TZOFFSETTO:+0100
TZNAME:BST
DTSTART:19700329T010000
RRULE:FREQ=YEARLY;BYMONTH=3;BYDAY=-1SU
END:DAYLIGHT
BEGIN:STANDARD
TZOFFSETFROM:+0100
TZOFFSETTO:+0000
TZNAME:GMT
DTSTART:19701025T020000
RRULE:FREQ=YEARLY;BYMONTH=10;BYDAY=-1SU
END:STANDARD
END:VTIMEZONE
BEGIN:VEVENT
UID:4626108:Event:3947
DTSTAMP:20260425T202727Z
SUMMARY:LG Networking Morning, Mercedes Benz World, Weybridge
DESCRIPTION:LG Networking Morning at Mercedes Benz World, Weybridge\n\
 nCome and join us at the prestigious location of Mercedes Benz World, 
 Weybridge for LG Networking.\nAt each of these mixed networking events
  will be a compelling Speaker, who will be presenting on a subject tha
 t will assist you in growing your business. We are passionate about yo
 ur success, so it makes sense to offer you opportunities that provide 
 you with new insights and new resources to help you move your business
  forward. Build meaningful business relationships, exchange your busin
 ess cards and promote your products and services. We'll be sharing ide
 as and supporting each other and networking to connect you with others
  who can help you to develop the success of your business further.\n O
 ur presenter this morning is Marketing Copywriter and Web Content Spec
 ialist Keith Grover. Keith's informal and interactive presentation 'He
 adlines and Deadlines - Win New Customers Online ...' explores how you
  can use shock tactics, intrigue and deprivation on your websites and 
 in social media to persuade more of your prospects to become customers
 . Keith also runs NetworkingInSurrey.com (shameless plug!)\nCOST: FREE
  to LG Members , £10 to non members.\nBOOK HERE Please give Catherine
  Jackson a call on 01932 350 939 to book your place or email catherine
 @lgnetworking.co.uk\nVENUE\nMAP & DIRECTIONS Mercedes Benz World share
 s an entrance with Brooklands Museum on the roundabout at the top of S
 opwith Drive. Parking is ample and free.\n-------------------------\nL
 G Networking has been created for successful business growth and devel
 opment by NiS Member Catherine Jackson. Our success lies in creating a
  networking organisation based on the principles of business exchange 
 and a positive attitude of mutual support.\n\nFor more information vis
 it https://networkinginsurrey.co.uk/events/lg-networking-morning-merce
 des-3
DTSTART;TZID=Europe/London:20101005T110000
DTEND;TZID=Europe/London:20101005T123000
CATEGORIES:morning, weybridge, business_networking_surrey, lg_networki
 ng
LOCATION:Mercedes Benz World, Weybridge KT13 0SL
WEBSITE:http://lgnetworking.co.uk/
URL:http://lgnetworking.co.uk/
CONTACT:01932 350 939
ORGANIZER:Catherine Jackson
ATTACH;FMTTYPE="image/jpeg":http://storage.ning.com/topology/rest/1.0/
 file/get/2591375239?profile=original
ATTENDEE;ROLE=REQ-PARTICIPANT;PARTSTAT=ACCEPTED;RSVP=TRUE;CN="Keith Gr
 over, NiS Founder":https://networkinginsurrey.co.uk/profile/KeithGrove
 r
ATTENDEE;ROLE=REQ-PARTICIPANT;PARTSTAT=ACCEPTED;RSVP=TRUE;CN="Shirley 
 Barton-Gunning":https://networkinginsurrey.co.uk/profile/ShirleyBarton
 Gunning
END:VEVENT
END:VCALENDAR
