BEGIN:VCALENDAR
PRODID:NingEventWidget-v1
VERSION:2.0
METHOD:PUBLISH
BEGIN:VTIMEZONE
TZID:Europe/London
X-LIC-LOCATION:Europe/London
BEGIN:DAYLIGHT
TZOFFSETFROM:+0000
TZOFFSETTO:+0100
TZNAME:BST
DTSTART:19700329T010000
RRULE:FREQ=YEARLY;BYMONTH=3;BYDAY=-1SU
END:DAYLIGHT
BEGIN:STANDARD
TZOFFSETFROM:+0100
TZOFFSETTO:+0000
TZNAME:GMT
DTSTART:19701025T020000
RRULE:FREQ=YEARLY;BYMONTH=10;BYDAY=-1SU
END:STANDARD
END:VTIMEZONE
BEGIN:VEVENT
UID:4626108:Event:3781
DTSTAMP:20260425T202702Z
SUMMARY:LG Networking Morning, Mercedes Benz World, Weybridge
DESCRIPTION:LG Networking Morning, Mercedes Benz World, Weybridge\n\nC
 ome and join us at the prestigious location of Mercedes Benz World, We
 ybridge for LG Networking.\nAt each of these mixed networking events w
 ill be a compelling Speaker, who will be presenting on a subject that 
 will assist you in growing your business. We are passionate about your
  success, so it makes sense to offer you opportunities that provide yo
 u with new insights and new resources to help you move your business f
 orward. Build meaningful business relationships, exchange your busines
 s cards and promote your products and services. We'll be sharing ideas
  and supporting each other and networking to connect you with others w
 ho can help you to develop the success of your business further.\nBACK
  BY POPULAR DEMAND!!!! What is Twitter and what can it do for your bus
 iness? Today our presentation is by Sam Jones (Photographer) who has b
 een using Twitter, very successfully. What a great chance to network, 
 meet lots of like-minded business people and learn about Twitter!\nCOS
 T: FREE to LG Members , £10 to non members.\nBOOK HERE Please give Ca
 therine Jackson a call on 01932 350 939 to book your place or email ca
 therine@lgnetworking.co.uk\nVENUE\nMAP & DIRECTIONS Mercedes Benz Worl
 d shares an entrance with Brooklands Museum on the roundabout at the t
 op of Sopwith Drive. Parking is ample and free.\n---------------------
 ----\nLG Networking has been created for successful business growth an
 d development by NiS Member Catherine Jackson. Our success lies in cre
 ating a networking organisation based on the principles of business ex
 change and a positive attitude of mutual support.\n\nFor more informat
 ion visit https://networkinginsurrey.co.uk/events/lg-networking-mornin
 g-mercedes-2
DTSTART;TZID=Europe/London:20100907T110000
DTEND;TZID=Europe/London:20100907T123000
CATEGORIES:morning, weybridge, business_networking_surrey, lg_networki
 ng
LOCATION:Mercedes Benz World, Weybridge KT13 0SL
WEBSITE:http://lgnetworking.co.uk/
URL:http://lgnetworking.co.uk/
CONTACT:01932 350 939
ORGANIZER:Catherine Jackson
ATTACH;FMTTYPE="image/jpeg":http://storage.ning.com/topology/rest/1.0/
 file/get/2591375239?profile=original
ATTENDEE;ROLE=REQ-PARTICIPANT;PARTSTAT=ACCEPTED;RSVP=TRUE;CN="Shirley 
 Barton-Gunning":https://networkinginsurrey.co.uk/profile/ShirleyBarton
 Gunning
ATTENDEE;ROLE=REQ-PARTICIPANT;PARTSTAT=ACCEPTED;RSVP=TRUE;CN="Dean Fau
 lkner":https://networkinginsurrey.co.uk/profile/DeanFaulkner
ATTENDEE;ROLE=REQ-PARTICIPANT;PARTSTAT=ACCEPTED;RSVP=TRUE;CN="Keith Gr
 over, NiS Founder":https://networkinginsurrey.co.uk/profile/KeithGrove
 r
ATTENDEE;ROLE=REQ-PARTICIPANT;PARTSTAT=TENTATIVE;RSVP=TRUE;CN="Annie H
 eggie":https://networkinginsurrey.co.uk/profile/Annie
END:VEVENT
END:VCALENDAR
