BEGIN:VCALENDAR
PRODID:NingEventWidget-v1
VERSION:2.0
METHOD:PUBLISH
BEGIN:VTIMEZONE
TZID:Europe/London
X-LIC-LOCATION:Europe/London
BEGIN:DAYLIGHT
TZOFFSETFROM:+0000
TZOFFSETTO:+0100
TZNAME:BST
DTSTART:19700329T010000
RRULE:FREQ=YEARLY;BYMONTH=3;BYDAY=-1SU
END:DAYLIGHT
BEGIN:STANDARD
TZOFFSETFROM:+0100
TZOFFSETTO:+0000
TZNAME:GMT
DTSTART:19701025T020000
RRULE:FREQ=YEARLY;BYMONTH=10;BYDAY=-1SU
END:STANDARD
END:VTIMEZONE
BEGIN:VEVENT
UID:4626108:Event:3575
DTSTAMP:20260425T174153Z
SUMMARY:LG Networking Morning, Mercedes Benz World, Weybridge
DESCRIPTION:LG Networking Morning, Mercedes Benz World, Weybridge\n\nC
 ome and join us at the prestigious location of Mercedes Benz World, We
 ybridge for LG Networking.\nAt each of these mixed networking events w
 ill be a compelling Speaker, who will be presenting on a subject that 
 will assist you in growing your business. We are passionate about your
  success, so it makes sense to offer you opportunities that provide yo
 u with new insights and new resources to help you move your business f
 orward. Build meaningful business relationships, exchange your busines
 s cards and promote your products and services. We'll be sharing ideas
  and supporting each other and networking to connect you with others w
 ho can help you to develop the success of your business further.\nThe 
 speaker at this event will be NiS Member Colin McKay from Mind Trainin
 g Systems presenting on Understanding the Prosperity Mindset.\n Ever w
 ondered why some people do well in business even when the economy is d
 own? And why is it that some people seem to always attract wealth and 
 good fortune and others seem to constantly struggle barely making ends
  meet? These are good questions and you are right that people’s appa
 rent abilities to manifest money seem to be starkly contrasting; it’
 s merely down to some people not understanding, the often unspoken, la
 ws of prosperity and is always in alignment with their beliefs about w
 ealth and abundance.\n\nCOST: FREE to LG Members , £10 to non members
 .\nBOOK HERE Please give Catherine Jackson a call on 01932 350 939 to 
 book your place or email catherine@lgnetworking.co.uk\nVENUE\nMAP & DI
 RECTIONS Mercedes Benz World shares an entrance with Brooklands Museum
  on the roundabout at the top of Sopwith Drive. Parking is ample and f
 ree.\n-------------------------\nLG Networking has been created for su
 ccessful business growth and development by NiS Member Catherine Jacks
 on. Our success lies in creating a networking organisation based on th
 e principles of business exchange and a positive attitude of mutual su
 pport.\n\nFor more information visit https://networkinginsurrey.co.uk/
 events/lg-networking-morning-mercedes-1
DTSTART;TZID=Europe/London:20100810T110000
DTEND;TZID=Europe/London:20100810T123000
CATEGORIES:morning, weybridge, business_networking_surrey, lg_networki
 ng
LOCATION:Mercedes Benz World, Weybridge KT13 0SL
WEBSITE:http://lgnetworking.co.uk/
URL:http://lgnetworking.co.uk/
CONTACT:01932 350 939
ORGANIZER:Catherine Jackson
ATTACH;FMTTYPE="image/jpeg":http://storage.ning.com/topology/rest/1.0/
 file/get/2591375239?profile=original
ATTENDEE;ROLE=REQ-PARTICIPANT;PARTSTAT=ACCEPTED;RSVP=TRUE;CN="Dean Fau
 lkner":https://networkinginsurrey.co.uk/profile/DeanFaulkner
ATTENDEE;ROLE=REQ-PARTICIPANT;PARTSTAT=ACCEPTED;RSVP=TRUE;CN="Colin Mc
 Kay":https://networkinginsurrey.co.uk/profile/Colin
ATTENDEE;ROLE=REQ-PARTICIPANT;PARTSTAT=ACCEPTED;RSVP=TRUE;CN="Keith Gr
 over, NiS Founder":https://networkinginsurrey.co.uk/profile/KeithGrove
 r
END:VEVENT
END:VCALENDAR
