BEGIN:VCALENDAR
PRODID:NingEventWidget-v1
VERSION:2.0
METHOD:PUBLISH
BEGIN:VTIMEZONE
TZID:Europe/London
X-LIC-LOCATION:Europe/London
BEGIN:DAYLIGHT
TZOFFSETFROM:+0000
TZOFFSETTO:+0100
TZNAME:BST
DTSTART:19700329T010000
RRULE:FREQ=YEARLY;BYMONTH=3;BYDAY=-1SU
END:DAYLIGHT
BEGIN:STANDARD
TZOFFSETFROM:+0100
TZOFFSETTO:+0000
TZNAME:GMT
DTSTART:19701025T020000
RRULE:FREQ=YEARLY;BYMONTH=10;BYDAY=-1SU
END:STANDARD
END:VTIMEZONE
BEGIN:VEVENT
UID:4626108:Event:1941
DTSTAMP:20260425T190839Z
SUMMARY:LG Networking Morning, Bookham
DESCRIPTION:\nLG Networking has been created for successful business g
 rowth and development. This particular event is for Business Men & Wom
 en. Please check the listings for all our other events.\nOur Mission i
 s to give you the power to grow your business through connecting onlin
 e and by attending networking events. You would benefit from growing y
 our business, wouldn't you? Would you like to connect with other peopl
 e, other clients on line, as well as face to face? Wouldn't it be grea
 t to receive more opportunities to develop both professionally and per
 sonally? Would you like to grow your business through the exchange of 
 meaningful referrals?\nWould you like to increase your visibility on l
 ine?\n\nWhat are we about?\nOur success lies in creating a networking 
 organisation based on the principles of business exchange and a positi
 ve attitude of mutual support.\n\nCOST:\nFree to members £10 to Non m
 embers Please remember to bring your business cards\nBOOK HERE Please 
 book your place by emailing catherine@lgnetworking.co.uk\n\nMAP\n\nFor
  more information visit https://networkinginsurrey.co.uk/events/lg-net
 working-morning-bookham
DTSTART;TZID=Europe/London:20100421T110000
DTEND;TZID=Europe/London:20100421T233000
CATEGORIES:morning, booham, lg_networking
LOCATION:Preston Cross Hotel, Bookham KT23 4DY
WEBSITE:http://www.lgnetworking.co.uk/node/20
URL:http://www.lgnetworking.co.uk/node/20
CONTACT:01932 350 939
ORGANIZER:Catherine Jackson
ATTACH;FMTTYPE="image/jpeg":http://storage.ning.com/topology/rest/1.0/
 file/get/2591375239?profile=original
END:VEVENT
END:VCALENDAR
