BEGIN:VCALENDAR
PRODID:NingEventWidget-v1
VERSION:2.0
METHOD:PUBLISH
BEGIN:VTIMEZONE
TZID:Europe/London
X-LIC-LOCATION:Europe/London
BEGIN:DAYLIGHT
TZOFFSETFROM:+0000
TZOFFSETTO:+0100
TZNAME:BST
DTSTART:19700329T010000
RRULE:FREQ=YEARLY;BYMONTH=3;BYDAY=-1SU
END:DAYLIGHT
BEGIN:STANDARD
TZOFFSETFROM:+0100
TZOFFSETTO:+0000
TZNAME:GMT
DTSTART:19701025T020000
RRULE:FREQ=YEARLY;BYMONTH=10;BYDAY=-1SU
END:STANDARD
END:VTIMEZONE
BEGIN:VEVENT
UID:4626108:Event:1966
DTSTAMP:20260425T202555Z
SUMMARY:LG Morning Networking, Weybridge
DESCRIPTION:\nOur Mission is to give you the power to grow your busine
 ss through connecting online and by attending networking events. This 
 event is for Business Men & Women. Please check the listings on our we
 bsite for all our other events.\nYou would benefit from growing your b
 usiness, wouldn't you?\nWould you like to connect with other people, o
 ther clients on line, as well as face to face?\nWouldn't it be great t
 o receive more opportunities to develop both professionally and person
 ally?\nWould you like to grow your business through the exchange of me
 aningful referrals?\nWould you like to increase your visibility on lin
 e?\n COST: Free to members, £10 to Non members\nPlease remember to br
 ing your business cards\nBOOK HERE Please book your place by emailing 
 catherine@lgnetworking.co.uk\n\nVENUE\nMAP & DIRECTIONS Mercedes Benz 
 World shares an entrance with Brooklands Museum on the roundabout at t
 he top of Sopwith Drive\n-------------------------\nLG Networking has 
 been created for successful business growth and development by NiS Mem
 ber Catherine Jackson. Our success lies in creating a networking organ
 isation based on the principles of business exchange and a positive at
 titude of mutual support.\n\nFor more information visit https://networ
 kinginsurrey.co.uk/events/lg-morning-networking
DTSTART;TZID=Europe/London:20100505T110000
DTEND;TZID=Europe/London:20100505T123000
CATEGORIES:morning, lg_networking
LOCATION:Mercedes Benz World, Weybridge KT13 0SL
WEBSITE:http://lgnetworking.co.uk/
URL:http://lgnetworking.co.uk/
CONTACT:01932 350 939
ORGANIZER:Catherine Jackson
ATTACH;FMTTYPE="image/jpeg":http://storage.ning.com/topology/rest/1.0/
 file/get/2591375239?profile=original
ATTENDEE;ROLE=REQ-PARTICIPANT;PARTSTAT=TENTATIVE;RSVP=TRUE;CN="Robyn H
 atley":https://networkinginsurrey.co.uk/profile/RobynHatley
ATTENDEE;ROLE=REQ-PARTICIPANT;PARTSTAT=TENTATIVE;RSVP=TRUE;CN="Keith G
 rover, NiS Founder":https://networkinginsurrey.co.uk/profile/KeithGrov
 er
END:VEVENT
END:VCALENDAR
