BEGIN:VCALENDAR
PRODID:NingEventWidget-v1
VERSION:2.0
METHOD:PUBLISH
BEGIN:VTIMEZONE
TZID:Europe/London
X-LIC-LOCATION:Europe/London
BEGIN:DAYLIGHT
TZOFFSETFROM:+0000
TZOFFSETTO:+0100
TZNAME:BST
DTSTART:19700329T010000
RRULE:FREQ=YEARLY;BYMONTH=3;BYDAY=-1SU
END:DAYLIGHT
BEGIN:STANDARD
TZOFFSETFROM:+0100
TZOFFSETTO:+0000
TZNAME:GMT
DTSTART:19701025T020000
RRULE:FREQ=YEARLY;BYMONTH=10;BYDAY=-1SU
END:STANDARD
END:VTIMEZONE
BEGIN:VEVENT
UID:4626108:Event:805
DTSTAMP:20260426T004650Z
SUMMARY:LG Ladies Morning, Weybridge
DESCRIPTION:\nOur Mission is to give you the power to grow your busine
 ss through connecting online and by attending networking events. This 
 particular event is for Business Women. Please check the listings on o
 ur website for all our other events.\nYou would benefit from growing y
 our business, wouldn't you?\nWould you like to connect with other peop
 le, other clients on line, as well as face to face?\nWouldn't it be gr
 eat to receive more opportunities to develop both professionally and p
 ersonally?\nWould you like to grow your business through the exchange 
 of meaningful referrals?\nWould you like to increase your visibility o
 n line?\n\n COST: Free to members, £10 to Non members\n\nPlease remem
 ber to bring your business cards\nBOOK HERE Please book your place by 
 emailing catherine@lgnetworking.co.uk\n\nVENUE\nMAP & DIRECTIONS Merce
 des Benz World shares and entrance with Brooklnads Museum on the round
 about at the top of Sopwith Drive\n-------------------------\nLG Netwo
 rking has been created for successful business growth and development.
  Our success lies in creating a networking organisation based on the p
 rinciples of business exchange and a positive attitude of mutual suppo
 rt.\n\nFor more information visit https://networkinginsurrey.co.uk/eve
 nts/lg-ladies-morning-weybridge
DTSTART;TZID=Europe/London:20100223T110000
DTEND;TZID=Europe/London:20100223T123000
CATEGORIES:women, morning, weybridge
LOCATION:Mercedes Benz World, Weybridge
WEBSITE:http://www.lgnetworking.co.uk
URL:http://www.lgnetworking.co.uk
CONTACT:01932 350 939
ORGANIZER:Catherine Jackson
ATTACH;FMTTYPE="image/jpeg":http://storage.ning.com/topology/rest/1.0/
 file/get/2591377698?profile=original
END:VEVENT
END:VCALENDAR
