BEGIN:VCALENDAR
PRODID:NingEventWidget-v1
VERSION:2.0
METHOD:PUBLISH
BEGIN:VTIMEZONE
TZID:Europe/London
X-LIC-LOCATION:Europe/London
BEGIN:DAYLIGHT
TZOFFSETFROM:+0000
TZOFFSETTO:+0100
TZNAME:BST
DTSTART:19700329T010000
RRULE:FREQ=YEARLY;BYMONTH=3;BYDAY=-1SU
END:DAYLIGHT
BEGIN:STANDARD
TZOFFSETFROM:+0100
TZOFFSETTO:+0000
TZNAME:GMT
DTSTART:19701025T020000
RRULE:FREQ=YEARLY;BYMONTH=10;BYDAY=-1SU
END:STANDARD
END:VTIMEZONE
BEGIN:VEVENT
UID:4626108:Event:1963
DTSTAMP:20260425T202727Z
SUMMARY:LG Ladies Morning Networking Weybridge
DESCRIPTION:\nOur Mission is to give you the power to grow your busine
 ss through connecting online and by attending networking events. This 
 particular event is for Business Women only. Please check the listings
  on our website for all our other events.\nYou would benefit from grow
 ing your business, wouldn't you?\nWould you like to connect with other
  people, other clients on line, as well as face to face?\nWouldn't it 
 be great to receive more opportunities to develop both professionally 
 and personally?\nWould you like to grow your business through the exch
 ange of meaningful referrals?\nWould you like to increase your visibil
 ity on line?\n COST: Free to members, £10 to Non members\nPlease reme
 mber to bring your business cards\nBOOK HERE Please book your place by
  emailing catherine@lgnetworking.co.uk\n\nVENUE\nMAP & DIRECTIONS Merc
 edes Benz World shares an entrance with Brooklands Museum on the round
 about at the top of Sopwith Drive\n-------------------------\nLG Netwo
 rking has been created for successful business growth and development 
 by NiS Member Catherine Jackson. Our success lies in creating a networ
 king organisation based on the principles of business exchange and a p
 ositive attitude of mutual support.\n\nFor more information visit http
 s://networkinginsurrey.co.uk/events/lg-ladies-morning-networking-1
DTSTART;TZID=Europe/London:20100427T110000
DTEND;TZID=Europe/London:20100427T123000
CATEGORIES:women, morning, lg_networking
LOCATION:Mercedes Benz World, Weybridge KT13 0SL
WEBSITE:http://lgnetworking.co.uk/
URL:http://lgnetworking.co.uk/
CONTACT:01932 350 939
ORGANIZER:Catherine Jackson
ATTACH;FMTTYPE="image/jpeg":http://storage.ning.com/topology/rest/1.0/
 file/get/2591377698?profile=original
ATTENDEE;ROLE=REQ-PARTICIPANT;PARTSTAT=TENTATIVE;RSVP=TRUE;CN="Annie H
 eggie":https://networkinginsurrey.co.uk/profile/Annie
END:VEVENT
END:VCALENDAR
