BEGIN:VCALENDAR
PRODID:NingEventWidget-v1
VERSION:2.0
METHOD:PUBLISH
BEGIN:VTIMEZONE
TZID:Europe/London
X-LIC-LOCATION:Europe/London
BEGIN:DAYLIGHT
TZOFFSETFROM:+0000
TZOFFSETTO:+0100
TZNAME:BST
DTSTART:19700329T010000
RRULE:FREQ=YEARLY;BYMONTH=3;BYDAY=-1SU
END:DAYLIGHT
BEGIN:STANDARD
TZOFFSETFROM:+0100
TZOFFSETTO:+0000
TZNAME:GMT
DTSTART:19701025T020000
RRULE:FREQ=YEARLY;BYMONTH=10;BYDAY=-1SU
END:STANDARD
END:VTIMEZONE
BEGIN:VEVENT
UID:4626108:Event:136876
DTSTAMP:20260420T222817Z
SUMMARY:Leatherhead Connections Lunch, East Horsley
DESCRIPTION:Ripley Connections at the De Vere Horsley Estate\r\n\r\nOu
 r MONTHY MEETINGS are run by Sally Castro Gouveia and & Abbie Sell, 
 with relaxed, fun, friendly networking (that produces results).\r\nOur
  meetings are for local business people who like to meet on a monthly 
 basis and find it difficult to do the start of the day - we don;t oper
 ate exclusivity for member categories.\r\n\r\nVisitors are welcome to 
 come along and check us out a couple of times with absolutely no commi
 tment or expectation to join - you'll know if it's right for you but w
 e can guarantee you that you'll receive a very warm welcome wherever y
 ou attend ... come and give us a try!\r\nBusiness should be fun!\r\n\r
 \nCOST: £22 including lunch - payable on-line or on the door.\r\nBO
 OKING: Please CLICK HERE to book\r\nMAP\n\nFor more information visi
 t https://networkinginsurrey.co.uk/events/leatherhead-connections-lunc
 h-east-horsley-3
DTSTART;TZID=Europe/London:20190813T110000
DTEND;TZID=Europe/London:20190813T130000
CATEGORIES:regular, business, networking, meeting
LOCATION:De Vere Horsley Estate
WEBSITE:https://bit.ly/2R1MdsG
URL:https://bit.ly/2R1MdsG
CONTACT:07525738758
ORGANIZER:Sally Castro Gouveia and Abbie Cotton Sell
ATTACH;FMTTYPE="image/jpeg":https://storage.ning.com/topology/rest/1.0
 /file/get/1005183032?profile=original
ATTENDEE;ROLE=REQ-PARTICIPANT;PARTSTAT=ACCEPTED;RSVP=TRUE;CN="Paul A B
 ridgland":https://networkinginsurrey.co.uk/profile/PaulABridgland
END:VEVENT
END:VCALENDAR
