BEGIN:VCALENDAR
PRODID:NingEventWidget-v1
VERSION:2.0
METHOD:PUBLISH
BEGIN:VTIMEZONE
TZID:Europe/London
X-LIC-LOCATION:Europe/London
BEGIN:DAYLIGHT
TZOFFSETFROM:+0000
TZOFFSETTO:+0100
TZNAME:BST
DTSTART:19700329T010000
RRULE:FREQ=YEARLY;BYMONTH=3;BYDAY=-1SU
END:DAYLIGHT
BEGIN:STANDARD
TZOFFSETFROM:+0100
TZOFFSETTO:+0000
TZNAME:GMT
DTSTART:19701025T020000
RRULE:FREQ=YEARLY;BYMONTH=10;BYDAY=-1SU
END:STANDARD
END:VTIMEZONE
BEGIN:VEVENT
UID:4626108:Event:527078
DTSTAMP:20260421T172528Z
SUMMARY:Leatherhead Connections Lunch, East Horsley
DESCRIPTION:Leatherhead Connections at the De Vere Horsley Estate\r\n\
 r\nWith the help of our lovely venues, we're actually back to 'Covid-s
 afe' physical meetings again!\r\nSafety measures mean we can only cate
 r for very limited numbers, so if it's full - sorry! We'll keep you po
 sted... Any questions, please call Paul Bridgland on 07799 888388\r\
 nUntil we are (reasonably) sure that this is a permanent change we wo
 uld ask everyone to book and pay for their breakfast online - there'
 s no option to pay on the door.\r\nOur Leatherhead meetings are run by
  Sally Castro Gouveia &  Abbie Sell - Business should be fun! \r\
 n\r\nCOST: £22 including lunch - payable on-line or on the door.\r\
 nBOOKING: Please CLICK HERE to book\r\nMAP\r\n----------------------
 ------\r\n***OPEN SPECIALS! We will continue to run a FREE single w
 eekly virtual meeting on Tuesdays for the foreseeable future alongsid
 e our normal meetings, for those who are unable or prefer not to resum
 e just yet ... and these will be open to all - Members and Visitors a
 like! You'll find all our meetings listed here on Networking in Surre
 y. ***\n\nFor more information visit https://networkinginsurrey.co.uk/
 events/leatherhead-connections-lunch-east-horsley-13
DTSTART;TZID=Europe/London:20210608T110000
DTEND;TZID=Europe/London:20210608T130000
CATEGORIES:regular, business, networking, meeting
LOCATION:De Vere Horsley Estate
WEBSITE:https://bit.ly/2R1MdsG
URL:https://bit.ly/2R1MdsG
CONTACT:07525738758
ORGANIZER:Sally Castro Gouveia and Abbie Cotton Sell
ATTACH;FMTTYPE="image/jpeg":https://storage.ning.com/topology/rest/1.0
 /file/get/8015296461?profile=original
ATTENDEE;ROLE=REQ-PARTICIPANT;PARTSTAT=ACCEPTED;RSVP=TRUE;CN="Paul A B
 ridgland":https://networkinginsurrey.co.uk/profile/PaulABridgland
END:VEVENT
END:VCALENDAR
