BEGIN:VCALENDAR
PRODID:NingEventWidget-v1
VERSION:2.0
METHOD:PUBLISH
BEGIN:VTIMEZONE
TZID:Europe/London
X-LIC-LOCATION:Europe/London
BEGIN:DAYLIGHT
TZOFFSETFROM:+0000
TZOFFSETTO:+0100
TZNAME:BST
DTSTART:19700329T010000
RRULE:FREQ=YEARLY;BYMONTH=3;BYDAY=-1SU
END:DAYLIGHT
BEGIN:STANDARD
TZOFFSETFROM:+0100
TZOFFSETTO:+0000
TZNAME:GMT
DTSTART:19701025T020000
RRULE:FREQ=YEARLY;BYMONTH=10;BYDAY=-1SU
END:STANDARD
END:VTIMEZONE
BEGIN:VEVENT
UID:4626108:Event:103575
DTSTAMP:20260424T040241Z
SUMMARY:VENUE CHANGE: Leatherhead Connections Lunch, Ripley
DESCRIPTION:Leatherhead Connections at the Talbot, Ripley (for this mo
 nth only)\n\nOur MONTHY MEETINGS are run by Sally Castro Gouveia and
  & Abbie Sell, with relaxed, fun, friendly networking (that produces r
 esults).\nTHIS MONTH we're back at one of our favourite venues, the hi
 storic Talbot Inn in Ripley (it's back to East Horsley next time!)\nOu
 r meetings are for local business people who like to meet on a monthly
  basis and find it difficult to do the start of the day - we don;t ope
 rate exclusivity for member categories.\n\nVisitors are welcome to com
 e along and check us out a couple of times with absolutely no commitme
 nt or expectation to join - you'll know if it's right for you but we c
 an guarantee you that you'll receive a very warm welcome wherever you 
 attend ... come and give us a try!\nBusiness should be fun!\n\n\nCOST:
  £22 including lunch - payable on-line or on the door.\nBOOKING: Pl
 ease CLICK HERE to book\nMAP\nFree parking in the Talbot's own car p
 ark\n\nFor more information visit https://networkinginsurrey.co.uk/eve
 nts/leatherhead-connections-lunch-east-horsley-1
DTSTART;TZID=Europe/London:20190312T110000
DTEND;TZID=Europe/London:20190312T130000
CATEGORIES:regular, business, networking, meeting
LOCATION:Talbot Inn
WEBSITE:https://bit.ly/2R1MdsG
URL:https://bit.ly/2R1MdsG
CONTACT:07525738758
ORGANIZER:Sally Castro Gouveia and Abbie Cotton Sell
ATTACH;FMTTYPE="image/jpeg":https://storage.ning.com/topology/rest/1.0
 /file/get/1005183032?profile=original
ATTENDEE;ROLE=REQ-PARTICIPANT;PARTSTAT=ACCEPTED;RSVP=TRUE;CN="Paul A B
 ridgland":https://networkinginsurrey.co.uk/profile/PaulABridgland
END:VEVENT
END:VCALENDAR
