BEGIN:VCALENDAR
PRODID:NingEventWidget-v1
VERSION:2.0
METHOD:PUBLISH
BEGIN:VTIMEZONE
TZID:Europe/London
X-LIC-LOCATION:Europe/London
BEGIN:DAYLIGHT
TZOFFSETFROM:+0000
TZOFFSETTO:+0100
TZNAME:BST
DTSTART:19700329T010000
RRULE:FREQ=YEARLY;BYMONTH=3;BYDAY=-1SU
END:DAYLIGHT
BEGIN:STANDARD
TZOFFSETFROM:+0100
TZOFFSETTO:+0000
TZNAME:GMT
DTSTART:19701025T020000
RRULE:FREQ=YEARLY;BYMONTH=10;BYDAY=-1SU
END:STANDARD
END:VTIMEZONE
BEGIN:VEVENT
UID:4626108:Event:401609
DTSTAMP:20260421T191907Z
SUMMARY:Learn2Love LinkedIn Live! Afternoon Workshop Online
DESCRIPTION:Learn2Love LinkedIn Live! Afternoon Online Workshop via Zo
 om \r\n\r\nLinkedIn is the world's largest business network, with over
  500 million Members and 2 new Profiles being created every second!\r\
 nThis 2-hour Workshop introduces the power of LinkedIn as a business a
 nd marketing tool to help you to increase your customer base and build
  an online presence with global visibility for your business.\r\nFor t
 he fourth time since Lockdown, Keith's offline Workshop will be delive
 red online via the Zoom platform. This means attendees can be live on 
 LinkedIn during the session, allowing you to put what you are learning
  into practice in real time.\r\nThe session will be recorded & may be 
 posted on social media to be available for others to view it. By joini
 ng this event and participating you agree to this.So the BONUS is that
  you'll come away with a 2-hour recording - an in-depth LinkedIn Cours
 e you can refer back to whenever you like!\r\nThis Learn2Love LinkedI
 n Workshop is offered at an unbeatable price - just £75 with no VAT t
 o pay - and the format will allow for a maximum of 10 attendees, so ea
 rly booking is definitely a good idea! -------------------------------
 --------------------------------------- Keith Grover is a Certified Tr
 ainer with Really Connect, the world's biggest LinkedIn training organ
 isation. This 'Learn2Love LinkedIn' Workshop introduces many of the to
 pics, tips and techniques which are covered in Really Connect's 'Socia
 l Selling with LinkedIn' one-day course which costs £497 + VAT.\r\nCo
 urse Summary\r\nYou’ll discover how to exploit the power of the worl
 d’s largest business network to: • Make a better impression when p
 eople find you on LinkedIn by creating an ‘All-Star’ Profile • G
 row your network of LinkedIn Connections to extend your personal netwo
 rk across geographical boundaries and connect with more of the right p
 eople for your business • Enhance your reputation as the ‘go-to’
  expert in your field so that customers and clients seek you out and w
 ant to work with you The areas we cover will vary slightly, depending 
 on who’s in the room on the day, and what you tell me you want to le
 arn about, but will include most (or all) of the following: • How do
 es LinkedIn fit into your overall marketing plan? • How should you h
 andle requests to connect? • How to adjust your settings to only get
  the communications you want (and block ‘spam’!) • Using LinkedI
 n to support your offline networking activities • Posting articles a
 nd other content on the platform• Use LinkedIn Groups to raise your 
 profile • Find the right people to talk to, and start an ongoing con
 versation - and never cold call again!  •…and much more besides!\r
 \nCOST: £79  ***Earlybird Saver just £49*** (and Super Earlybird - 
 £39, but only if you're quick!)\r\nBOOKING: 'Please CLICK HERE to boo
 k your place\n\nFor more information visit https://networkinginsurrey.
 co.uk/events/learn2love-linkedin-live-afternoon-workshop-online
DTSTART;TZID=Europe/London:20200910T140000
DTEND;TZID=Europe/London:20200910T160000
CATEGORIES:online, workshop
LOCATION:Online only
WEBSITE:https://www.eventbrite.co.uk/e/learn2love-linkedin-live-aftern
 oon-workshop-via-zoom-tickets-114440867716
URL:https://www.eventbrite.co.uk/e/learn2love-linkedin-live-afternoon-
 workshop-via-zoom-tickets-114440867716
CONTACT:
ORGANIZER;CN="Keith Grover, NiS Founder":https://networkinginsurrey.co
 .uk/profile/KeithGrover
ATTACH;FMTTYPE="image/jpeg":https://storage.ning.com/topology/rest/1.0
 /file/get/541433889?profile=original
ATTENDEE;ROLE=REQ-PARTICIPANT;PARTSTAT=ACCEPTED;RSVP=TRUE;CN="Keith Gr
 over, NiS Founder":https://networkinginsurrey.co.uk/profile/KeithGrove
 r
END:VEVENT
END:VCALENDAR
