BEGIN:VCALENDAR
PRODID:NingEventWidget-v1
VERSION:2.0
METHOD:PUBLISH
BEGIN:VTIMEZONE
TZID:Europe/London
X-LIC-LOCATION:Europe/London
BEGIN:DAYLIGHT
TZOFFSETFROM:+0000
TZOFFSETTO:+0100
TZNAME:BST
DTSTART:19700329T010000
RRULE:FREQ=YEARLY;BYMONTH=3;BYDAY=-1SU
END:DAYLIGHT
BEGIN:STANDARD
TZOFFSETFROM:+0100
TZOFFSETTO:+0000
TZNAME:GMT
DTSTART:19701025T020000
RRULE:FREQ=YEARLY;BYMONTH=10;BYDAY=-1SU
END:STANDARD
END:VTIMEZONE
BEGIN:VEVENT
UID:4626108:Event:2478
DTSTAMP:20260425T162109Z
SUMMARY:Launch Party - BNI Breakfast, Esher
DESCRIPTION:BNI Breakfast, Esher\n\nThe recently created Esher BNI gro
 up will be holding an official Launch Party, where we are looking to h
 ave over 200 people in the room. Among the guests confirmed will be Ni
 S Mamber Thomas Power, Chairman of Ecademy. If you'd like to come alon
 g to sample networking over breakfast with the global organisation tha
 t invented the concept, please contact NiS Member James McBrearty by s
 ending a message on this site or calling James at Tax Help UK on 0845 
 680 1423\nCOST: £10 including breakfast\nMAP\nDue to expected high de
 mand we are limiting places to businesses who are not already BNI memb
 ers and whose business category is not yet represented in the new Eshe
 r chapter\n--------------------------------------\nBNI provides a stru
 ctured, supportive, business environment in which local business peopl
 e can get together to network, learn valuable new marketing skills and
  develop the strong personal relationships that lead to trust and the 
 consequent generation of significant business for each other.\n\nFor m
 ore information visit https://networkinginsurrey.co.uk/events/launch-p
 arty-bni-breakfast
DTSTART;TZID=Europe/London:20100617T063000
DTEND;TZID=Europe/London:20100617T093000
CATEGORIES:breakfast, esher, bni, business_networking
LOCATION:Cobham Sports Club, Old Surbitonians Memorial Ground KT11 2BU
WEBSITE:
URL:
CONTACT:0845 680 1423
ORGANIZER:James McBrearty
ATTACH;FMTTYPE="image/jpeg":http://storage.ning.com/topology/rest/1.0/
 file/get/2591377575?profile=original
ATTENDEE;ROLE=REQ-PARTICIPANT;PARTSTAT=ACCEPTED;RSVP=TRUE;CN="Keith Gr
 over, NiS Founder":https://networkinginsurrey.co.uk/profile/KeithGrove
 r
END:VEVENT
END:VCALENDAR
