BEGIN:VCALENDAR
PRODID:NingEventWidget-v1
VERSION:2.0
METHOD:PUBLISH
BEGIN:VTIMEZONE
TZID:Europe/London
X-LIC-LOCATION:Europe/London
BEGIN:DAYLIGHT
TZOFFSETFROM:+0000
TZOFFSETTO:+0100
TZNAME:BST
DTSTART:19700329T010000
RRULE:FREQ=YEARLY;BYMONTH=3;BYDAY=-1SU
END:DAYLIGHT
BEGIN:STANDARD
TZOFFSETFROM:+0100
TZOFFSETTO:+0000
TZNAME:GMT
DTSTART:19701025T020000
RRULE:FREQ=YEARLY;BYMONTH=10;BYDAY=-1SU
END:STANDARD
END:VTIMEZONE
BEGIN:VEVENT
UID:4626108:Event:10559
DTSTAMP:20260422T155727Z
SUMMARY:LAUNCH EVENT:The Mumpreneurs Club Morning, Bookham
DESCRIPTION:The Mumpreneurs at Preston Cross\n\nJoin us for the launc
 h of  The Mumpreneurs Networking Club, Leatherhead...\nWhen : Thursda
 y,March 24th at 10.30 \nWhere: The Preston Cross Hotel , Bookham \nW
 ho: Mums in business and those that want to reach them !\nThe Mumprene
 urs Networking Club holds informal , friendly, monthly meetings open 
 to all, so if you want to drive your business forward, seek some supp
 ort and advice or are just looking for inspiration then come and meet 
 us.  No formal speakers just a chance to say who you are and what you
  do. \nCLICK HERE TO BOOK or call for more info:\n Sara on 07576 81
 3340   Head Office: 01273 681484\nMAP\n\nFor more information visit 
 https://networkinginsurrey.co.uk/events/launch-eventthe-mumpreneurs
DTSTART;TZID=Europe/London:20110324T103000
DTEND;TZID=Europe/London:20110324T120000
CATEGORIES:networking
LOCATION:The Preston Cross Hotel  KT23 4DY
WEBSITE:http://www.agoodgossip.co.uk
URL:http://www.agoodgossip.co.uk
CONTACT:07576 813340 or 01273 681484
ORGANIZER:Sara Guiel and Lyn Haslegrave
ATTACH;FMTTYPE="image/jpeg":http://storage.ning.com/topology/rest/1.0/
 file/get/2591390743?profile=original
ATTENDEE;ROLE=REQ-PARTICIPANT;PARTSTAT=ACCEPTED;RSVP=TRUE;CN="Lyn Hasl
 egrave":https://networkinginsurrey.co.uk/profile/LynHaslegrave
END:VEVENT
END:VCALENDAR
