BEGIN:VCALENDAR
PRODID:NingEventWidget-v1
VERSION:2.0
METHOD:PUBLISH
BEGIN:VTIMEZONE
TZID:Europe/London
X-LIC-LOCATION:Europe/London
BEGIN:DAYLIGHT
TZOFFSETFROM:+0000
TZOFFSETTO:+0100
TZNAME:BST
DTSTART:19700329T010000
RRULE:FREQ=YEARLY;BYMONTH=3;BYDAY=-1SU
END:DAYLIGHT
BEGIN:STANDARD
TZOFFSETFROM:+0100
TZOFFSETTO:+0000
TZNAME:GMT
DTSTART:19701025T020000
RRULE:FREQ=YEARLY;BYMONTH=10;BYDAY=-1SU
END:STANDARD
END:VTIMEZONE
BEGIN:VEVENT
UID:4626108:Event:539689
DTSTAMP:20260423T211417Z
SUMMARY:LAUNCH EVENT: Zoco Live! Morning, Richmond
DESCRIPTION:New! Zoco Networking Morning, Richmond\n\nZoco stands for
  Zoom + Coffee!\nWe officially launched in August 2020 after a few mon
 ths of free meetings to support people during lockdown. Whilst the Fou
 nder Nick is based in Hampton, South West London, we now have visitors
  from all over the world visiting us each week, many able to do busine
 ss completely online so not tied to geographic limitations.\nNow we ar
 e also starting to run new in-person local groups, so welcome to the R
 ichmond group.\nFor the online sessions, we don't mind where you join 
 from! Most of us tend to be based in the SW London and Surrey  area a
 s this is where it started and where Nick the founder is based. For th
 is session as it's one of our in-person sessions, obviously you'll nee
 d to be fairly close to the Richmond area!\nBuilding relationships is 
 critical not only for business success but also for our mental health.
  We always encourage our members to set up 1-1 calls with each other o
 utside of the official meetings.\nCOST: £10 Visitors - all welcome (F
 REE to Zoco Menbers) \nBOOKING: Please CLICK HERE to book your place\
 nMAP\n------------------------------------------\nFounder Nick Blancha
 rd.says: I run informal online groups. I wouldn't call it networking 
 exactly, though we are a supportive network, but without the formaliti
 es, strict structures, rules and constant selling!\n…..click here fo
 r the Zoco story so far….The BEST Facebook Networking group is her
 e….. PLEASE JOIN!\n\n\nFor more information visit https://networking
 insurrey.co.uk/events/launch-event-zoco-live-morning-networking-richmo
 nd
DTSTART;TZID=Europe/London:20231115T100000
DTEND;TZID=Europe/London:20231116T120000
CATEGORIES:zoco, dorking
LOCATION:Lass o' Richmond Hill TW10 6JJ
WEBSITE:
URL:
CONTACT:
ORGANIZER;CN="Nick Blanchard":https://networkinginsurrey.co.uk/profile
 /NickBlanchard
ATTACH;FMTTYPE="image/jpeg":https://storage.ning.com/topology/rest/1.0
 /file/get/11129797461?profile=original
ATTENDEE;ROLE=REQ-PARTICIPANT;PARTSTAT=ACCEPTED;RSVP=TRUE;CN="Nick Bla
 nchard":https://networkinginsurrey.co.uk/profile/NickBlanchard
END:VEVENT
END:VCALENDAR
