BEGIN:VCALENDAR
PRODID:NingEventWidget-v1
VERSION:2.0
METHOD:PUBLISH
BEGIN:VTIMEZONE
TZID:Europe/London
X-LIC-LOCATION:Europe/London
BEGIN:DAYLIGHT
TZOFFSETFROM:+0000
TZOFFSETTO:+0100
TZNAME:BST
DTSTART:19700329T010000
RRULE:FREQ=YEARLY;BYMONTH=3;BYDAY=-1SU
END:DAYLIGHT
BEGIN:STANDARD
TZOFFSETFROM:+0100
TZOFFSETTO:+0000
TZNAME:GMT
DTSTART:19701025T020000
RRULE:FREQ=YEARLY;BYMONTH=10;BYDAY=-1SU
END:STANDARD
END:VTIMEZONE
BEGIN:VEVENT
UID:4626108:Event:1603
DTSTAMP:20260425T162110Z
SUMMARY:Launch Event! Young Chamber Evening, Woking
DESCRIPTION:Launch of Woking Chamber 'Young Chamber' Events\n\n'Young 
 Chamber' is a new initiative by Woking Chamber of Commerce, designed t
 o attract younger members of the local business community to become in
 volved with the Chamber.\nEvents will be organised at venues, or with 
 themes,to interest younger business people – but with no age limit o
 r age restriction whatsoever.\n****Half Price Cocktails until 10pm ***
 *\nMembers are urged to encourage their younger members of staff and t
 heir colleagues from other companies to attend.\nCOST:Members: £10.00
  (inc VAT) Guests: £15.00 (inc VAT)\nBOOK HERE\nMAP\nVENUE\n---------
 ------------------------------,\nThis event is organised by NiS Member
  James Webster\n\nFor more information visit https://networkinginsurre
 y.co.uk/events/launch-event-young-chamber
DTSTART;TZID=Europe/London:20100408T180000
DTEND;TZID=Europe/London:20100408T193000
CATEGORIES:social, evening, woking_chamber
LOCATION:The Bed Bar, Woking GU21 6EJ
WEBSITE:http://www.wokingchamber.org.uk/events.php?e=172
URL:http://www.wokingchamber.org.uk/events.php?e=172
CONTACT:
ORGANIZER:James Webster
ATTACH;FMTTYPE="image/jpeg":http://storage.ning.com/topology/rest/1.0/
 file/get/2591378811?profile=original
END:VEVENT
END:VCALENDAR
