BEGIN:VCALENDAR
PRODID:NingEventWidget-v1
VERSION:2.0
METHOD:PUBLISH
BEGIN:VTIMEZONE
TZID:Europe/London
X-LIC-LOCATION:Europe/London
BEGIN:DAYLIGHT
TZOFFSETFROM:+0000
TZOFFSETTO:+0100
TZNAME:BST
DTSTART:19700329T010000
RRULE:FREQ=YEARLY;BYMONTH=3;BYDAY=-1SU
END:DAYLIGHT
BEGIN:STANDARD
TZOFFSETFROM:+0100
TZOFFSETTO:+0000
TZNAME:GMT
DTSTART:19701025T020000
RRULE:FREQ=YEARLY;BYMONTH=10;BYDAY=-1SU
END:STANDARD
END:VTIMEZONE
BEGIN:VEVENT
UID:4626108:Event:1302
DTSTAMP:20260426T034139Z
SUMMARY:Launch Event -The Athena Network Lunch, Esher
DESCRIPTION:Launch Event - The Athena Network Lunch, Esher\n\nLaunchin
 g The Athena Network in North Surrey has certainly been a \"whirlwind 
 romance\"!\nSince the start of our Weybridge group in November of last
  year, and then the Cobham Group in February, and now Esher on the 26t
 h March, the word about Athena is certainly spreading. And local busin
 ess women are clearly loving the different networking experience that 
 Athena delivers! Come and find out for yourself what it's all about at
  our Esher launch...\nCOST: Guests - £25 including lunch, refreshment
 s & Athena information pack. Members - £20\nBOOK HERE: Pre-registrati
 on is essential - if would like to join us, please let us know 48 hour
 s before the Meeting, so that we can reserve a place for you, as our e
 vents do sell out.\nContact Tricia Taylor 01932 882 340tricia.taylor@t
 heathenanetwork.com or Robyn Hatley 01932 422 573 robyn.hatley@theathe
 nanetwork.com\nMAP\nVENUE\n----------------\nThe Athena Network has 13
 0 Athena Network groups nationwide running focused, yet relaxed, netwo
 rking lunches for local business women. Our business meetings include 
 open networking, guest speakers, business training and the opportunity
  to promote your own business - whether well-established or starting o
 ut. NiS Member Robyn Hatley is co-Regional Director for Athena North S
 urrey, together with Tricia Taylor.\n\nFor more information visit http
 s://networkinginsurrey.co.uk/events/launch-event-the-athena
DTSTART;TZID=Europe/London:20100326T120000
DTEND;TZID=Europe/London:20100326T143000
CATEGORIES:lunch, women, esher, athena_network
LOCATION:The Bear, Esher KT10 9RQ
WEBSITE:http://www.athenanorthsurrey.co.uk/esher/
URL:http://www.athenanorthsurrey.co.uk/esher/
CONTACT:Robyn 01932 422573, Tricia 01932 882340
ORGANIZER:Robyn Hatley
ATTACH;FMTTYPE="image/jpeg":http://storage.ning.com/topology/rest/1.0/
 file/get/2591379091?profile=original
ATTENDEE;ROLE=REQ-PARTICIPANT;PARTSTAT=ACCEPTED;RSVP=TRUE;CN="Keith Gr
 over, NiS Founder":https://networkinginsurrey.co.uk/profile/KeithGrove
 r
END:VEVENT
END:VCALENDAR
