BEGIN:VCALENDAR
PRODID:NingEventWidget-v1
VERSION:2.0
METHOD:PUBLISH
BEGIN:VTIMEZONE
TZID:Europe/London
X-LIC-LOCATION:Europe/London
BEGIN:DAYLIGHT
TZOFFSETFROM:+0000
TZOFFSETTO:+0100
TZNAME:BST
DTSTART:19700329T010000
RRULE:FREQ=YEARLY;BYMONTH=3;BYDAY=-1SU
END:DAYLIGHT
BEGIN:STANDARD
TZOFFSETFROM:+0100
TZOFFSETTO:+0000
TZNAME:GMT
DTSTART:19701025T020000
RRULE:FREQ=YEARLY;BYMONTH=10;BYDAY=-1SU
END:STANDARD
END:VTIMEZONE
BEGIN:VEVENT
UID:4626108:Event:399273
DTSTAMP:20260421T204416Z
SUMMARY:LAUNCH EVENT:Athena Woking Lunchtime Online
DESCRIPTION:Athena Women's Network Woking Launch - Online!\r\n\r\nBusi
 ness Networking Really Works!\r\nFocusing exclusively on women in busi
 ness fulfilling a business development role, The Athena Network offers
  inspiring opportunities to engage with business owners and decision-m
 akers from diverse industry sectors.\r\nJoin us virtually at our next 
 Woking Meeting on 17th September. This group meets every third Thursda
 y. As soon as it is safe to do so, we will be returning to our fabulou
 s venue, Sands at Bleak House.\r\nCOST: £30\r\nBOOKING: Please conta
 ct Doris on 07501 124113 for details and to book.\r\n----------------
 ------------------------------------------------\r\nAthena groups are 
 committed to welcoming members and visitors in a relaxed, mutually sup
 portive and ethical environment. Find more Athena meetings here on Ne
 tworking in Surrey...\r\n\n\nFor more information visit https://networ
 kinginsurrey.co.uk/events/launch-event-the-athena-network-woking
DTSTART;TZID=Europe/London:20200917T113000
DTEND;TZID=Europe/London:20200917T140000
CATEGORIES:"women's", business, networking
LOCATION:Online
WEBSITE:
URL:
CONTACT:07501 124113
ORGANIZER;CN="Doris Holleufer":https://networkinginsurrey.co.uk/profil
 e/DorisHolleufer88
ATTACH;FMTTYPE="image/jpeg":https://storage.ning.com/topology/rest/1.0
 /file/get/1775117945?profile=original
ATTENDEE;ROLE=REQ-PARTICIPANT;PARTSTAT=ACCEPTED;RSVP=TRUE;CN="Doris Ho
 lleufer":https://networkinginsurrey.co.uk/profile/DorisHolleufer88
END:VEVENT
END:VCALENDAR
