BEGIN:VCALENDAR
PRODID:NingEventWidget-v1
VERSION:2.0
METHOD:PUBLISH
BEGIN:VTIMEZONE
TZID:Europe/London
X-LIC-LOCATION:Europe/London
BEGIN:DAYLIGHT
TZOFFSETFROM:+0000
TZOFFSETTO:+0100
TZNAME:BST
DTSTART:19700329T010000
RRULE:FREQ=YEARLY;BYMONTH=3;BYDAY=-1SU
END:DAYLIGHT
BEGIN:STANDARD
TZOFFSETFROM:+0100
TZOFFSETTO:+0000
TZNAME:GMT
DTSTART:19701025T020000
RRULE:FREQ=YEARLY;BYMONTH=10;BYDAY=-1SU
END:STANDARD
END:VTIMEZONE
BEGIN:VEVENT
UID:4626108:Event:100724
DTSTAMP:20260422T013933Z
SUMMARY:LAUNCH EVENT: The Athena Network Lunch, Guildford
DESCRIPTION:Discover Networking the Athena Way!\r\n\r\nSuccessful wome
 n’s business networking group to launch in Guildford!\r\nVibrant and
  fast-growing, The Athena Network is the leading international network
 ing, training & development business club for female executives and en
 trepreneurs.\r\n\r\nWomen in Guildford can now do business in the most
  relaxed way possible .. over lunch!  A new business group run by Th
 e Athena Network launches on 2nd October 2018 at Guildford Golf Club, 
 High Path Road, Guildford Surrey, between 1130:00am and 14:00pm to he
 lp women make business connections, and grow their business in a suppo
 rtive atmosphere.\r\nThe meeting fee includes lunch, tea & coffee plus
  free parking.\r\nAthena is passionate about bringing women together, 
 helping them to grow stronger, more profitable businesses and creating
  opportunities for career success.\r\nI'm Lucy Macartney – The Athe
 na Network Regional Director – Woking & Guildford.\r\nThe group will
  meet once a month between mid-day and 14:00pm, and give business wome
 n a chance to find new customers without cold calling or high pressure
  selling. We inspire and support women towards success, and help to fi
 nd business opportunities for each other.\r\nCOST: Non-Members £28\r
 \nBOOKING:  To book your place please call 07725 054646 or email  lu
 cy.macartney@theathenanetwork.com\r\nMAP\r\n--------------------------
 -------\r\nWe look forward to welcoming you to Athena!  Find more lo
 cal Athena groups here on Networking in Surrey...\r\n\n\nFor more inf
 ormation visit https://networkinginsurrey.co.uk/events/launch-event-th
 e-athena-network-lunch-guildford
DTSTART;TZID=Europe/London:20181002T113000
DTEND;TZID=Europe/London:20181002T140000
CATEGORIES:networking, lunch
LOCATION:Guildford Golf Club GU1 2HL
WEBSITE:http://www.guildfordgolfclub.co.uk
URL:http://www.guildfordgolfclub.co.uk
CONTACT:07725054646
ORGANIZER;CN="Lucy Macartney":https://networkinginsurrey.co.uk/profile
 /LucyMacartney
ATTACH;FMTTYPE="image/jpeg":http://storage.ning.com/topology/rest/1.0/
 file/get/1858656965?profile=original
ATTENDEE;ROLE=REQ-PARTICIPANT;PARTSTAT=ACCEPTED;RSVP=TRUE;CN="Lucy Mac
 artney":https://networkinginsurrey.co.uk/profile/LucyMacartney
END:VEVENT
END:VCALENDAR
