BEGIN:VCALENDAR
PRODID:NingEventWidget-v1
VERSION:2.0
METHOD:PUBLISH
BEGIN:VTIMEZONE
TZID:Europe/London
X-LIC-LOCATION:Europe/London
BEGIN:DAYLIGHT
TZOFFSETFROM:+0000
TZOFFSETTO:+0100
TZNAME:BST
DTSTART:19700329T010000
RRULE:FREQ=YEARLY;BYMONTH=3;BYDAY=-1SU
END:DAYLIGHT
BEGIN:STANDARD
TZOFFSETFROM:+0100
TZOFFSETTO:+0000
TZNAME:GMT
DTSTART:19701025T020000
RRULE:FREQ=YEARLY;BYMONTH=10;BYDAY=-1SU
END:STANDARD
END:VTIMEZONE
BEGIN:VEVENT
UID:4626108:Event:399322
DTSTAMP:20260421T222600Z
SUMMARY:LAUNCH EVENT: Athena Guildford Lunchtime Online
DESCRIPTION:Athena Women's Network Guildford Launch - Online\r\n\r\nBu
 siness Networking Really Works!\r\nFocusing exclusively on women in bu
 siness fulfilling a business development role, The Athena Network offe
 rs inspiring opportunities to engage with business owners and decision
 -makers from diverse industry sectors.\r\nJoin us virtually at our nex
 t Guildford Meeting on 22nd October. This group meets every fourth Thu
 rsday. As soon as it is safe to do so, we will be returning to our fab
 ulous venue, The Percy Arms.\r\nCOST: £30\r\nBOOKING: Please contact
  Doris on 07501 124113 for details and to book.\r\n------------------
 ----------------------------------------------\r\nAthena groups are co
 mmitted to welcoming members and visitors in a relaxed, mutually suppo
 rtive and ethical environment. Find more Athena meetings here on Netw
 orking in Surrey...\r\n\n\nFor more information visit https://networki
 nginsurrey.co.uk/events/launch-event-the-athena-network-guildford
DTSTART;TZID=Europe/London:20201022T113000
DTEND;TZID=Europe/London:20201022T140000
CATEGORIES:"women's", business, networking
LOCATION:Online
WEBSITE:
URL:
CONTACT:07501124113
ORGANIZER;CN="Doris Holleufer":https://networkinginsurrey.co.uk/profil
 e/DorisHolleufer88
ATTACH;FMTTYPE="image/jpeg":https://storage.ning.com/topology/rest/1.0
 /file/get/1775117945?profile=original
ATTENDEE;ROLE=REQ-PARTICIPANT;PARTSTAT=ACCEPTED;RSVP=TRUE;CN="Doris Ho
 lleufer":https://networkinginsurrey.co.uk/profile/DorisHolleufer88
END:VEVENT
END:VCALENDAR
