BEGIN:VCALENDAR
PRODID:NingEventWidget-v1
VERSION:2.0
METHOD:PUBLISH
BEGIN:VTIMEZONE
TZID:Europe/London
X-LIC-LOCATION:Europe/London
BEGIN:DAYLIGHT
TZOFFSETFROM:+0000
TZOFFSETTO:+0100
TZNAME:BST
DTSTART:19700329T010000
RRULE:FREQ=YEARLY;BYMONTH=3;BYDAY=-1SU
END:DAYLIGHT
BEGIN:STANDARD
TZOFFSETFROM:+0100
TZOFFSETTO:+0000
TZNAME:GMT
DTSTART:19701025T020000
RRULE:FREQ=YEARLY;BYMONTH=10;BYDAY=-1SU
END:STANDARD
END:VTIMEZONE
BEGIN:VEVENT
UID:4626108:Event:98445
DTSTAMP:20260422T105427Z
SUMMARY:LAUNCH EVENT: Omni Local Breakfast, Guildford
DESCRIPTION:Launch Event: Omni LocalÂ  - Guildford & Woking Group\nIf 
 you own your own business or work in an environment where you need to 
 find long term new clients or customers then you have found an easy wa
 y to do this!\nOn top of this you can come to one of our FREE Seminars
  after the breakfast meeting!\nCome and meet the Omni Guildford and Wo
 king Team: Alan HowellÂ and Annette Gardner. We get booked up in advan
 ce, so please reserve your place early!!!\nMEETING FORMAT -\n07:30 - O
 pen Networking & Registration Best to get there early! 07:45 - Breakfa
 st is served & Opening of the meeting from the Group Director 07:50 - 
 Start 1 Minute Round  08:15 - End of 1 Minute Round 08:15 - 1-2-1 Meet
 ing Set Up  Â Pick someone you might need to help your business or who
  can help yours! 08:20 - Time for Pitch Platform & Question Time -If y
 ou want to do this, you must be a member 08:30 - End of Question Time 
 Use this time to get tips from an expert 08.35 - Start 1-2-1 Meeting Â
  Please remember this a chance to get to know someone! Â Donâ€™t worry
  if you have not spoken to everyone. Youâ€™ll get a chance later. 08:5
 0 - End 1-2-1 Meetings & Back to your spot 08:55 - Members & Networkin
 g Events Â Please let us know if you have something coming up. We will
  tell everyone. 09:00 - Time for TT&Ts! Tips, Testimonials and Thank Y
 ou Time. Please feel free to tell everyone about someone who has given
  you business or someone you have worked with! 09:15 - Meeting Close -
  - Set Up for Seminar & Refresh Coffees and Teas\n09:30 -Â 10:15Â FREE
  Speed SeminarÂ \nFor more info - Please visitÂ our website here...\nC
 OST: Â£12 meeting fee including breakfast (cash on the door, pre-booki
 ng essential please!)\nBOOKING:Â Please CLICK HEREÂ to register or sen
 d us an email to reserve your place - sales.omnilocal@gmail.comÂ or ca
 ll John on 07898 870 870\nMAP\n--------------------------------------\
 nFind more Omni Local Networking GroupsÂ here on NiS...\n\nFor more in
 formation visit https://networkinginsurrey.co.uk/events/launch-event-o
 mni-local-breakfast-guildford
DTSTART;TZID=Europe/London:20180530T073000
DTEND;TZID=Europe/London:20180530T091500
CATEGORIES:breakfast, weybridge, morden, b2b
LOCATION:The Royal Oak GU3 3DA
WEBSITE:https://www.omnilocalbusinessnetworking.com/our-meetings/find-
 a-meeting/upcoming
URL:https://www.omnilocalbusinessnetworking.com/our-meetings/find-a-me
 eting/upcoming
CONTACT:07898 870 870
ORGANIZER:Alan Howell and Annette Gardner
ATTACH;FMTTYPE="image/jpeg":http://storage.ning.com/topology/rest/1.0/
 file/get/1716582246?profile=original
ATTENDEE;ROLE=REQ-PARTICIPANT;PARTSTAT=ACCEPTED;RSVP=TRUE;CN="John Gow
 er":https://networkinginsurrey.co.uk/profile/John
END:VEVENT
END:VCALENDAR
