BEGIN:VCALENDAR
PRODID:NingEventWidget-v1
VERSION:2.0
METHOD:PUBLISH
BEGIN:VTIMEZONE
TZID:Europe/London
X-LIC-LOCATION:Europe/London
BEGIN:DAYLIGHT
TZOFFSETFROM:+0000
TZOFFSETTO:+0100
TZNAME:BST
DTSTART:19700329T010000
RRULE:FREQ=YEARLY;BYMONTH=3;BYDAY=-1SU
END:DAYLIGHT
BEGIN:STANDARD
TZOFFSETFROM:+0100
TZOFFSETTO:+0000
TZNAME:GMT
DTSTART:19701025T020000
RRULE:FREQ=YEARLY;BYMONTH=10;BYDAY=-1SU
END:STANDARD
END:VTIMEZONE
BEGIN:VEVENT
UID:4626108:Event:19615
DTSTAMP:20260423T192816Z
SUMMARY:LAUNCH EVENT: NABO Networking Breakfast, Croydon
DESCRIPTION:NABO Launch at the Hilton\n\nKey to the success of NABO Ne
 tworking is the balance between cost effective, value for money networ
 king and the provision of ongoing business support through education.\
 nNABO Networking will be providing over 20 hours of education each yea
 r, which you can access as a member, which will be provided via NABO N
 etworking TV. No other networking organisation offers a similar benef
 it.\nA typical meeting will run as follows:\n\nOpen Networking\nWelcom
 e by Group Director\nBreakfast and commence 45 second presentations\nO
 pen Networking\nQ & A session based on NABO Networking TV\n1 -2 -1 mee
 tings\nHot Seat\nTestimonials\n\nEach two-hour meeting is structured s
 o that you get the best group experience, plus one-on-one talking time
 , too. A supportive, mentoring environment like this is a hot bed of i
 deas and inspiration.\nNABO Networking offers:\n\nA fresh approach bac
 ked by a young and active team of successful business people\nValue fo
 r money with renewals set at the same level of joining\nOngoing educat
 ion, development and support\nAn organisation, which is not afraid to 
 embrace new technology, but retain what works\nA meeting structure tha
 t is educational as well as business orientated\n\nMeeting Fee: £16 
 including breakfast\nPLEASE CLICK HERE TO BOOK\nMAP\n\nFor more inform
 ation visit https://networkinginsurrey.co.uk/events/launch-event-nabo-
 breakfast
DTSTART;TZID=Europe/London:20110603T073000
DTEND;TZID=Europe/London:20110603T093000
CATEGORIES:breakfast, nabo, croydon
LOCATION:Hilton Hotel  CR9 4HH
WEBSITE:http://nabo-networking-croydon.eventbrite.com/
URL:http://nabo-networking-croydon.eventbrite.com/
CONTACT:0795 789 0 757
ORGANIZER;CN="Laurence Lowne":https://networkinginsurrey.co.uk/profile
 /LaurenceLowne
ATTACH;FMTTYPE="image/jpeg":http://storage.ning.com/topology/rest/1.0/
 file/get/2591393472?profile=original
ATTENDEE;ROLE=REQ-PARTICIPANT;PARTSTAT=ACCEPTED;RSVP=TRUE;CN="Laurence
  Lowne":https://networkinginsurrey.co.uk/profile/LaurenceLowne
END:VEVENT
END:VCALENDAR
