BEGIN:VCALENDAR
PRODID:NingEventWidget-v1
VERSION:2.0
METHOD:PUBLISH
BEGIN:VTIMEZONE
TZID:Europe/London
X-LIC-LOCATION:Europe/London
BEGIN:DAYLIGHT
TZOFFSETFROM:+0000
TZOFFSETTO:+0100
TZNAME:BST
DTSTART:19700329T010000
RRULE:FREQ=YEARLY;BYMONTH=3;BYDAY=-1SU
END:DAYLIGHT
BEGIN:STANDARD
TZOFFSETFROM:+0100
TZOFFSETTO:+0000
TZNAME:GMT
DTSTART:19701025T020000
RRULE:FREQ=YEARLY;BYMONTH=10;BYDAY=-1SU
END:STANDARD
END:VTIMEZONE
BEGIN:VEVENT
UID:4626108:Event:4930
DTSTAMP:20260423T211411Z
SUMMARY:LAUNCH EVENT: Heart of Surrey Athena Network Lunch, Guildford
DESCRIPTION:\nAnnouncing the launch of a new Athena Area in Heart of S
 urrey! Join us for an exclusive launch event on 22nd Nov and become pa
 rt of Heart of Surrey Athena exciting and fast-growing network! Vibran
 t and fast-growing, Athena is the International Premier Business Netwo
 rking Organization for Women. Thousands of business women are embracin
 g networking with open arms and are going away from our meetings feeli
 ng inspired and motivated to take themselves and their business to the
  next level. Some fantastic connections are made as ladies find suppli
 ers and clients or work on joint projects considerably enhancing the s
 ervices they offer their clients. If you haven't experienced the sheer
  joy of networking with fascinating, like-minded women who share the s
 ame vision, please come and join us and prepare to be inspired!\nAmong
  Athena Membership Benefits are:\n- Monthly Networking Lunch Meetings\
 n- Training and Development\n- Free additional membership to high rank
 ing Athena Website\n- Profile your business and events\n- Athena Heart
  of Surrey Special Regional Events\n\nCOST: £25 including lunch, refr
 eshments and Athena information pack BOOK HERE: Pre-registration is es
 sential - please contact NiS Member Tanja Gower (message via her Profl
 e page here) or email tanja@theathenanetwork\nMAP\n-------------------
 ------------------\nThe Athena Network has 160 Athena Network groups n
 ationwide running focused, yet relaxed, networking lunches for local b
 usiness women. Our business meetings include open networking, guest sp
 eakers, business training and the opportunity to promote your own busi
 ness - whether well-established or starting out.…\n\nFor more inform
 ation visit https://networkinginsurrey.co.uk/events/launch-event-heart
 -of-surrey
DTSTART;TZID=Europe/London:20101122T120000
DTEND;TZID=Europe/London:20101122T140000
CATEGORIES:launch, "women's", networking
LOCATION:Holiday Inn Guildford GU2 7XZ
WEBSITE:http://www.athenasurreycentral.co.uk
URL:http://www.athenasurreycentral.co.uk
CONTACT:07775675729
ORGANIZER;CN="Tanja Gower":https://networkinginsurrey.co.uk/profile/Ta
 njaGower
ATTACH;FMTTYPE="image/jpeg":http://storage.ning.com/topology/rest/1.0/
 file/get/2591385772?profile=original
ATTENDEE;ROLE=REQ-PARTICIPANT;PARTSTAT=ACCEPTED;RSVP=TRUE;CN="Tanja Go
 wer":https://networkinginsurrey.co.uk/profile/TanjaGower
END:VEVENT
END:VCALENDAR
