BEGIN:VCALENDAR
PRODID:NingEventWidget-v1
VERSION:2.0
METHOD:PUBLISH
BEGIN:VTIMEZONE
TZID:Europe/London
X-LIC-LOCATION:Europe/London
BEGIN:DAYLIGHT
TZOFFSETFROM:+0000
TZOFFSETTO:+0100
TZNAME:BST
DTSTART:19700329T010000
RRULE:FREQ=YEARLY;BYMONTH=3;BYDAY=-1SU
END:DAYLIGHT
BEGIN:STANDARD
TZOFFSETFROM:+0100
TZOFFSETTO:+0000
TZNAME:GMT
DTSTART:19701025T020000
RRULE:FREQ=YEARLY;BYMONTH=10;BYDAY=-1SU
END:STANDARD
END:VTIMEZONE
BEGIN:VEVENT
UID:4626108:Event:1143
DTSTAMP:20260426T050208Z
SUMMARY:Launch Event! FREE Quantum Leap Club Afternoon, Chertsey
DESCRIPTION:Launch of Free Afternoon Networking at Quantum House\n\nQu
 antum Leap Club is an exciting opportunity for small businesses in and
  around Chertsey to meet like-minded people and engage in both informa
 l and structured networking. An ideal place to pick up new customers, 
 expand your local profile and exchange ideas, attending the Quantum Le
 ap Club is the perfect way to kick start your business as the recessio
 n comes to an end. The club is hosted by Alan James & Co Chartered Acc
 ountants, in the newly refurbished Quantum House in Guildford Street, 
 Chertsey.\nCOST: FREE\nBOOK HERE: If you would like to attend this lau
 nch meeting please call Simon Dawkins on 01932 579 790 or message him 
 via his profile on this site.\nMAP\n-------------------------\nQuantum
  Leap Club is organised by NiS Member Simon Dawkins and overseen by Al
 an James FCA, who was a founding member of the Elmbridge Business Netw
 ork International (BNI), and as such has been generating leads and con
 tacts for members for nearly ten years. Having recently moved his succ
 essful accountancy practice into Quantum House after 20 years in busin
 ess, Alan is seeking to combine the pro-active networking environment 
 of BNI with the expert accounting and business knowledge of Alan James
  & Co. This will bring a unique networking club to the heart of Cherts
 ey town centre.\n\nFor more information visit https://networkinginsurr
 ey.co.uk/events/launch-event-free-quantum-leap
DTSTART;TZID=Europe/London:20100325T160000
DTEND;TZID=Europe/London:20100325T180000
CATEGORIES:free, afternoon, chertsey, quantum_leap
LOCATION:Quantum House, Chertsey KT16 9AX
WEBSITE:http://www.quantumleapclub.co.uk/
URL:http://www.quantumleapclub.co.uk/
CONTACT:01932 579 790
ORGANIZER:Alan James & Simon
ATTACH;FMTTYPE="image/jpeg":http://storage.ning.com/topology/rest/1.0/
 file/get/2591377592?profile=original
ATTENDEE;ROLE=REQ-PARTICIPANT;PARTSTAT=ACCEPTED;RSVP=TRUE;CN="Simon Da
 wkins ACCA":https://networkinginsurrey.co.uk/profile/SimonDawkinsACCA
ATTENDEE;ROLE=REQ-PARTICIPANT;PARTSTAT=ACCEPTED;RSVP=TRUE;CN="Keith Gr
 over, NiS Founder":https://networkinginsurrey.co.uk/profile/KeithGrove
 r
END:VEVENT
END:VCALENDAR
