BEGIN:VCALENDAR
PRODID:NingEventWidget-v1
VERSION:2.0
METHOD:PUBLISH
BEGIN:VTIMEZONE
TZID:Europe/London
X-LIC-LOCATION:Europe/London
BEGIN:DAYLIGHT
TZOFFSETFROM:+0000
TZOFFSETTO:+0100
TZNAME:BST
DTSTART:19700329T010000
RRULE:FREQ=YEARLY;BYMONTH=3;BYDAY=-1SU
END:DAYLIGHT
BEGIN:STANDARD
TZOFFSETFROM:+0100
TZOFFSETTO:+0000
TZNAME:GMT
DTSTART:19701025T020000
RRULE:FREQ=YEARLY;BYMONTH=10;BYDAY=-1SU
END:STANDARD
END:VTIMEZONE
BEGIN:VEVENT
UID:4626108:Event:8705
DTSTAMP:20260422T114457Z
SUMMARY:LAUNCH EVENT: FREE Business Biscotti Morning, Epsom
DESCRIPTION:FREE Business Biscotti Networking at Epsom Racecourse\n\nB
 usiness Biscotti is what networking is all about – meeting and formi
 ng business relationships with like minded people. \nOur philosophy i
 s about building relationships and these regular meetings offer a rela
 xed way to meet other local businesses without commitment to an annual
  membership.\nNo need to pre-book, just turn up on the day - we look f
 orward to seeing you there!\nThe new Epsom group (at the prestigious h
 ome of the Derby!) will be run by NiS Member Soraya Anderson who will
  meet and greet you on the day, and introduce you to other Biscotti me
 mbers.\n----------------------------\nBusiness Biscotti has grown into
  a community of business people who now provide support, guidance, hel
 p and trading opportunities for one another. We have many groups, more
  are starting all the time, and an Online Community - www.businessbisc
 otti.co.uk\n\nFor more information visit https://networkinginsurrey.co
 .uk/events/launch-event-free-business
DTSTART;TZID=Europe/London:20110321T093000
DTEND;TZID=Europe/London:20110321T113000
CATEGORIES:business_biscotti, free, morning, epsom
LOCATION:Holiday Inn Express, Epsom Racecourse KT18 5LG
WEBSITE:http://www.hiexpressepsom.co.uk/
URL:http://www.hiexpressepsom.co.uk/
CONTACT:
ORGANIZER;CN="Soraya Anderson":https://networkinginsurrey.co.uk/profil
 e/SorayaAnderson
ATTACH;FMTTYPE="image/jpeg":http://storage.ning.com/topology/rest/1.0/
 file/get/2591386525?profile=original
ATTENDEE;ROLE=REQ-PARTICIPANT;PARTSTAT=ACCEPTED;RSVP=TRUE;CN="Paul Swe
 eney":https://networkinginsurrey.co.uk/profile/PaulSweeney
ATTENDEE;ROLE=REQ-PARTICIPANT;PARTSTAT=ACCEPTED;RSVP=TRUE;CN="Sue Cock
 s":https://networkinginsurrey.co.uk/profile/SueCocks
ATTENDEE;ROLE=REQ-PARTICIPANT;PARTSTAT=ACCEPTED;RSVP=TRUE;CN="Sam Mill
 ard":https://networkinginsurrey.co.uk/profile/SamMillard
ATTENDEE;ROLE=REQ-PARTICIPANT;PARTSTAT=ACCEPTED;RSVP=TRUE;CN="Rosemary
  Hemmett":https://networkinginsurrey.co.uk/profile/RosemaryHemmett
ATTENDEE;ROLE=REQ-PARTICIPANT;PARTSTAT=ACCEPTED;RSVP=TRUE;CN="Sue Yong
 e":https://networkinginsurrey.co.uk/profile/SueYonge
ATTENDEE;ROLE=REQ-PARTICIPANT;PARTSTAT=ACCEPTED;RSVP=TRUE;CN="Sandra C
 ollins":https://networkinginsurrey.co.uk/profile/SandraCollins
ATTENDEE;ROLE=REQ-PARTICIPANT;PARTSTAT=ACCEPTED;RSVP=TRUE;CN="Julie Je
 nkinson":https://networkinginsurrey.co.uk/profile/JulieJenkinson
ATTENDEE;ROLE=REQ-PARTICIPANT;PARTSTAT=ACCEPTED;RSVP=TRUE;CN="Soraya A
 nderson":https://networkinginsurrey.co.uk/profile/SorayaAnderson
ATTENDEE;ROLE=REQ-PARTICIPANT;PARTSTAT=TENTATIVE;RSVP=TRUE;CN="Wendy A
 ger":https://networkinginsurrey.co.uk/profile/WendyAger
ATTENDEE;ROLE=REQ-PARTICIPANT;PARTSTAT=TENTATIVE;RSVP=TRUE;CN="Sally B
 urrough":https://networkinginsurrey.co.uk/profile/SallyBurrough
END:VEVENT
END:VCALENDAR
