BEGIN:VCALENDAR
PRODID:NingEventWidget-v1
VERSION:2.0
METHOD:PUBLISH
BEGIN:VTIMEZONE
TZID:Europe/London
X-LIC-LOCATION:Europe/London
BEGIN:DAYLIGHT
TZOFFSETFROM:+0000
TZOFFSETTO:+0100
TZNAME:BST
DTSTART:19700329T010000
RRULE:FREQ=YEARLY;BYMONTH=3;BYDAY=-1SU
END:DAYLIGHT
BEGIN:STANDARD
TZOFFSETFROM:+0100
TZOFFSETTO:+0000
TZNAME:GMT
DTSTART:19701025T020000
RRULE:FREQ=YEARLY;BYMONTH=10;BYDAY=-1SU
END:STANDARD
END:VTIMEZONE
BEGIN:VEVENT
UID:4626108:Event:14306
DTSTAMP:20260423T025113Z
SUMMARY:LAUNCH EVENT - FREE Business Biscotti Morning, Woking
DESCRIPTION:Business Biscotti Woking Launch at the Lightbox\n\nNetwork
 ing with Business Biscotti is different!\nWe want people to enter into
  meaningful business relationships and gain business, but also to put 
 something back by participating and contributing to the Community, for
  the benefit of all of us.\nBusiness Biscotti is different from other 
 networking organisations – as its philosophy is to SUPPORT neighbour
 hood marketing principles; ie to think globally but to do business loc
 ally.\nBOOKING - No need to book - just show up!\nCOST: FREE to attend
  - just pay £3 for unlimited tea and coffee\nWoking Biscotti is hoste
 d by NiS MEmber Jo Underhill\nMAP\nVENUE\n\nFor more information visit
  https://networkinginsurrey.co.uk/events/launch-event-free-business-3
DTSTART;TZID=Europe/London:20110414T100000
DTEND;TZID=Europe/London:20110414T120000
CATEGORIES:biscotti, business_networking_surrey, free, woking
LOCATION:The Lightbox GU21 4AA
WEBSITE:http://www.businessbiscotti.co.uk/events-diary/details/1190-bi
 scotti-woking.html
URL:http://www.businessbiscotti.co.uk/events-diary/details/1190-biscot
 ti-woking.html
CONTACT:
ORGANIZER:Jo Underhill
ATTACH;FMTTYPE="image/jpeg":http://storage.ning.com/topology/rest/1.0/
 file/get/2591392212?profile=original
ATTENDEE;ROLE=REQ-PARTICIPANT;PARTSTAT=ACCEPTED;RSVP=TRUE;CN="Keith Gr
 over, NiS Founder":https://networkinginsurrey.co.uk/profile/KeithGrove
 r
END:VEVENT
END:VCALENDAR
