BEGIN:VCALENDAR
PRODID:NingEventWidget-v1
VERSION:2.0
METHOD:PUBLISH
BEGIN:VTIMEZONE
TZID:Europe/London
X-LIC-LOCATION:Europe/London
BEGIN:DAYLIGHT
TZOFFSETFROM:+0000
TZOFFSETTO:+0100
TZNAME:BST
DTSTART:19700329T010000
RRULE:FREQ=YEARLY;BYMONTH=3;BYDAY=-1SU
END:DAYLIGHT
BEGIN:STANDARD
TZOFFSETFROM:+0100
TZOFFSETTO:+0000
TZNAME:GMT
DTSTART:19701025T020000
RRULE:FREQ=YEARLY;BYMONTH=10;BYDAY=-1SU
END:STANDARD
END:VTIMEZONE
BEGIN:VEVENT
UID:4626108:Event:14302
DTSTAMP:20260422T114519Z
SUMMARY:LAUNCH EVENT - FREE Business Biscotti Morning, Cobham
DESCRIPTION:Business Biscotti Cobham Launch at the NY Bar & Grill\n\nN
 etworking with Business Biscotti is different!\nWe want people to ente
 r into meaningful business relationships and gain business, but also t
 o put something back by participating and contributing to the Communit
 y, for the benefit of all of us.\nBusiness Biscotti is different from 
 other networking organisations – as its philosophy is to SUPPORT nei
 ghbourhood marketing principles; ie to think globally but to do busine
 ss locally.\nBOOKING - No need to book - just show up at any time duri
 ng the session, as there's no formality or rules...\nCOST FREE to atte
 nd - just pay £3 for unlimited tea and coffee\nPlease join us for o
 ur Cobham & Esher Launch Event - we'd like to see as near to 100 peopl
 e there as we can muster!\nCobham & Esher Biscotti is hosted by NiS Me
 mbers Tessa Hood and Charlotte Grant\nMAP\nVENUE\n\nFor more informati
 on visit https://networkinginsurrey.co.uk/events/launch-event-free-bus
 iness-2
DTSTART;TZID=Europe/London:20110503T100000
DTEND;TZID=Europe/London:20110503T120000
CATEGORIES:biscotti, business_networking_surrey, free, cobham
LOCATION:NY Bar & Grill  KT11 1HY
WEBSITE:http://www.businessbiscotti.co.uk/events-diary/details/1199-co
 bham-esher-biscotti.html
URL:http://www.businessbiscotti.co.uk/events-diary/details/1199-cobham
 -esher-biscotti.html
CONTACT:
ORGANIZER:Tessa Hood
ATTACH;FMTTYPE="image/jpeg":http://storage.ning.com/topology/rest/1.0/
 file/get/2591392328?profile=original
ATTENDEE;ROLE=REQ-PARTICIPANT;PARTSTAT=ACCEPTED;RSVP=TRUE;CN="Rupert H
 onywood":https://networkinginsurrey.co.uk/profile/Honywood
ATTENDEE;ROLE=REQ-PARTICIPANT;PARTSTAT=ACCEPTED;RSVP=TRUE;CN="Mike Tur
 ner":https://networkinginsurrey.co.uk/profile/MikeTurner
ATTENDEE;ROLE=REQ-PARTICIPANT;PARTSTAT=ACCEPTED;RSVP=TRUE;CN="Max Wrig
 ht":https://networkinginsurrey.co.uk/profile/MaxWright
ATTENDEE;ROLE=REQ-PARTICIPANT;PARTSTAT=ACCEPTED;RSVP=TRUE;CN="David Nu
 nn":https://networkinginsurrey.co.uk/profile/DavidNunn
ATTENDEE;ROLE=REQ-PARTICIPANT;PARTSTAT=ACCEPTED;RSVP=TRUE;CN="Keith Gr
 over, NiS Founder":https://networkinginsurrey.co.uk/profile/KeithGrove
 r
ATTENDEE;ROLE=REQ-PARTICIPANT;PARTSTAT=ACCEPTED;RSVP=TRUE;CN="Barry Ki
 rkwood":https://networkinginsurrey.co.uk/profile/BarryKirkwood
ATTENDEE;ROLE=REQ-PARTICIPANT;PARTSTAT=TENTATIVE;RSVP=TRUE;CN="Claire 
 Brown":https://networkinginsurrey.co.uk/profile/ClaireBrown
END:VEVENT
END:VCALENDAR
