BEGIN:VCALENDAR
PRODID:NingEventWidget-v1
VERSION:2.0
METHOD:PUBLISH
BEGIN:VTIMEZONE
TZID:Europe/London
X-LIC-LOCATION:Europe/London
BEGIN:DAYLIGHT
TZOFFSETFROM:+0000
TZOFFSETTO:+0100
TZNAME:BST
DTSTART:19700329T010000
RRULE:FREQ=YEARLY;BYMONTH=3;BYDAY=-1SU
END:DAYLIGHT
BEGIN:STANDARD
TZOFFSETFROM:+0100
TZOFFSETTO:+0000
TZNAME:GMT
DTSTART:19701025T020000
RRULE:FREQ=YEARLY;BYMONTH=10;BYDAY=-1SU
END:STANDARD
END:VTIMEZONE
BEGIN:VEVENT
UID:4626108:Event:9424
DTSTAMP:20260423T165616Z
SUMMARY:LAUNCH EVENT: FREE Business Biscotti Morning, Weybridge
DESCRIPTION:FREE Business Biscotti at the Brooklands Hotel\n \nBusine
 ss Biscotti is what networking is all about – meeting and forming bu
 siness relationships with like minded people. \nOur philosophy is abo
 ut building relationships and these regular meetings offer a relaxed w
 ay to meet other local businesses without commitment to an annual memb
 ership.\nNo need to pre-book, just turn up on the day - we look forwar
 d to seeing you there!\nThe new Weybridge group (at the stylish boutiq
 ue Brooklands Hotel next to Mercedes Benz World) will be run by Sarah 
 and John Mills, who will meet and greet you on the day, and introduce 
 you to other Biscotti members.\nVENUE\nMAP & DIRECTIONS\n-------------
 ---------------\nBusiness Biscotti has grown into a community of busin
 ess people who now provide support, guidance, help and trading opportu
 nities for one another. We have many groups, more are starting all the
  time, and an Online Community - www.businessbiscotti.co.uk\n \n\nFor
  more information visit https://networkinginsurrey.co.uk/events/launch
 -event-free-business-1
DTSTART;TZID=Europe/London:20110225T100000
DTEND;TZID=Europe/London:20110225T120000
CATEGORIES:business_biscotti, free, morning, weybridge
LOCATION:The Brooklands Hotel KT13 0SL
WEBSITE:http://www.businessbiscotti.co.uk/surrey/weybridge.html
URL:http://www.businessbiscotti.co.uk/surrey/weybridge.html
CONTACT:Sarah 07825 815182 / John 07939 001232
ORGANIZER:Sarah & John Mills
ATTACH;FMTTYPE="image/jpeg":http://storage.ning.com/topology/rest/1.0/
 file/get/2591391145?profile=original
ATTENDEE;ROLE=REQ-PARTICIPANT;PARTSTAT=ACCEPTED;RSVP=TRUE;CN="Keith Gr
 over, NiS Founder":https://networkinginsurrey.co.uk/profile/KeithGrove
 r
END:VEVENT
END:VCALENDAR
