BEGIN:VCALENDAR
PRODID:NingEventWidget-v1
VERSION:2.0
METHOD:PUBLISH
BEGIN:VTIMEZONE
TZID:Europe/London
X-LIC-LOCATION:Europe/London
BEGIN:DAYLIGHT
TZOFFSETFROM:+0000
TZOFFSETTO:+0100
TZNAME:BST
DTSTART:19700329T010000
RRULE:FREQ=YEARLY;BYMONTH=3;BYDAY=-1SU
END:DAYLIGHT
BEGIN:STANDARD
TZOFFSETFROM:+0100
TZOFFSETTO:+0000
TZNAME:GMT
DTSTART:19701025T020000
RRULE:FREQ=YEARLY;BYMONTH=10;BYDAY=-1SU
END:STANDARD
END:VTIMEZONE
BEGIN:VEVENT
UID:4626108:Event:8513
DTSTAMP:20260423T193803Z
SUMMARY:LAUNCH EVENT: Farleigh Fox Networking Evening, Croydon
DESCRIPTION:Networking Evening with Stewart Graham at Farleigh Fox Gol
 f Club\n\nÂ Celebrate Foxhills' purchase of Farleigh Golf Club and enj
 oy complimentary wine and canapes!\nCome along to hear Stewart GrahamÂ
   give an interactive and amusing talk on how to achieve the maximum s
 uccess from networking.\n'What Stewart doesn't know about networking s
 uccess, isn't worth knowing' - Louise Punter, CEO Surrey Chamber of Co
 mmerce)\nThere will also be some surprise entertainment throughtout th
 e evening...COST: Free to Farleigh Golf Club members\nÂ£15 + VAT for S
 urrey Chamber of Commerce members\nÂ£25 + VAT for anyone else.\nBOOK H
 ERE: To book please call Debbie on 01883 62 89 09 or email debbie@farl
 eighfox.co.uk.\nTicket includes arrival drink & canapÃ©s & Special Liv
 e Entertainment\nWhy not stay for dinner? Our restaurant Nineteen will
  be open for light bites and specials offÂ our brand new menu. Book a 
 table on 01883 628909.\nMAP\n\nFor more information visit https://netw
 orkinginsurrey.co.uk/events/launch-event-farleigh-fox
DTSTART;TZID=Europe/London:20110223T180000
DTEND;TZID=Europe/London:20110223T200000
CATEGORIES:networking, croydon, evening
LOCATION:Farleigh Golf Club CR6 9PX
WEBSITE:http://www.foxhills.co.uk/farleighfox/
URL:http://www.foxhills.co.uk/farleighfox/
CONTACT:
ORGANIZER:Farleigh Golf Club
ATTACH;FMTTYPE="image/jpeg":http://storage.ning.com/topology/rest/1.0/
 file/get/2591389616?profile=original
ATTENDEE;ROLE=REQ-PARTICIPANT;PARTSTAT=ACCEPTED;RSVP=TRUE;CN="Stewart 
 Graham":https://networkinginsurrey.co.uk/profile/StewartGraham
ATTENDEE;ROLE=REQ-PARTICIPANT;PARTSTAT=TENTATIVE;RSVP=TRUE;CN="Helen C
 olechin":https://networkinginsurrey.co.uk/profile/HelenColechin
END:VEVENT
END:VCALENDAR
