BEGIN:VCALENDAR
PRODID:NingEventWidget-v1
VERSION:2.0
METHOD:PUBLISH
BEGIN:VTIMEZONE
TZID:Europe/London
X-LIC-LOCATION:Europe/London
BEGIN:DAYLIGHT
TZOFFSETFROM:+0000
TZOFFSETTO:+0100
TZNAME:BST
DTSTART:19700329T010000
RRULE:FREQ=YEARLY;BYMONTH=3;BYDAY=-1SU
END:DAYLIGHT
BEGIN:STANDARD
TZOFFSETFROM:+0100
TZOFFSETTO:+0000
TZNAME:GMT
DTSTART:19701025T020000
RRULE:FREQ=YEARLY;BYMONTH=10;BYDAY=-1SU
END:STANDARD
END:VTIMEZONE
BEGIN:VEVENT
UID:4626108:Event:96371
DTSTAMP:20260423T070400Z
SUMMARY:POSTPONED DUE TO WEATHER: Fabulous Women Late Breakfast, Cobha
 m
DESCRIPTION:****POSTPONED DUE TO SNOW***\r\nFabulous Women Late Breakf
 ast at The Old Mill, Cobham Park Road Downside\r\n\r\n\r\nHi, I'm Gil
 les Pelenc, the group leader for the Cobham Fabulous Women group. I 
 look forward to welcoming you!\r\nHere are just a few reasons why comi
 ng to a Fabulous Women Netwinning meeting will be the best business de
 cision you ever made:\r\n\r\nMake new friends\r\nFind customers, suppl
 iers and collaborators\r\nBe inspired\r\nLearn new skills\r\n\r\nOur A
 genda is the best mix between formal and informal networking - perfec
 t for the new, as well as the more experienced networker.\r\nWe have I
 nspiring speakers; a 'Hot Seat' or Mini-Coaching session; and 1-2-1's 
 with a 'twist' where we all work out ways in which we can potentially 
 collaborate or support each other, even if it's simply by following ea
 ch other on Twitter etc. This month our speaker is Penny Power whose 
 talk is entitled 'Her Journey'.\r\nYou have the chance to make a one-m
 inute business pitch about who you are, what you do and who you do it
  for and how we can help you. (Do not worry about this if you are a li
 ttle nervous, you can type it out and read it if you wish! We do not j
 udge, we just want to help you).\r\nWomen do business with men too, an
 d Fabulous Women welcomes Marvellous Men who are happy to network in
  our style. This means collaboration not competition, and support not 
 sell and we know that you are interested in both personal and business
  development.\r\nYou don't need to be a member to attend a Fabulous W
 omen Netwinning meeting. You can attend up to three meetings as a gues
 t.\r\nWith all these benefits to being a part of the Fabulous Women ex
 perience, how can you resist?! To attend, simply confirm your attenda
 nce by clicking on the blue \"Yes I'm Attending\" button on the right,
  so the venue can cater for you, then just pay the attendance fee on a
 rrival (cash only please!).\r\nPlease remember to bring your business 
 cards and marketing material and, if you sell products, bring some sam
 ples for us to see.\r\nCOST: £10 for Guests and FW members (cash o
 nly please, on the door!)\r\nBOOKING: Please CLICK HERE to visit ou
 r website then click on the pink \"Yes I'm Attending\" button at the 
 bottom\r\nMAP \r\nThis one is quite tricky to find the first time! Go 
 along the humpy road and at a bend you need to take the left fork. If 
 you reach the MOT centre, turn back... and retry!\r\n-----------------
 ----------------\r\nFind other local Fabulous Women events here on N
 etworking in Surrey...\n\nFor more information visit https://networkin
 ginsurrey.co.uk/events/launch-event-fabulous-women-late-breakfast-cobh
 am
DTSTART;TZID=Europe/London:20180302T100000
DTEND;TZID=Europe/London:20180302T120000
CATEGORIES:breakfast, cobham, fabulous_women
LOCATION:The Old Mill KT11 3NE
WEBSITE:
URL:
CONTACT:
ORGANIZER:Gilles Pelenc
ATTACH;FMTTYPE="image/jpeg":http://storage.ning.com/topology/rest/1.0/
 file/get/1179757333?profile=original
ATTENDEE;ROLE=REQ-PARTICIPANT;PARTSTAT=ACCEPTED;RSVP=TRUE;CN="Jane Har
 dy":https://networkinginsurrey.co.uk/profile/JaneHardy
END:VEVENT
END:VCALENDAR
