BEGIN:VCALENDAR
PRODID:NingEventWidget-v1
VERSION:2.0
METHOD:PUBLISH
BEGIN:VTIMEZONE
TZID:Europe/London
X-LIC-LOCATION:Europe/London
BEGIN:DAYLIGHT
TZOFFSETFROM:+0000
TZOFFSETTO:+0100
TZNAME:BST
DTSTART:19700329T010000
RRULE:FREQ=YEARLY;BYMONTH=3;BYDAY=-1SU
END:DAYLIGHT
BEGIN:STANDARD
TZOFFSETFROM:+0100
TZOFFSETTO:+0000
TZNAME:GMT
DTSTART:19701025T020000
RRULE:FREQ=YEARLY;BYMONTH=10;BYDAY=-1SU
END:STANDARD
END:VTIMEZONE
BEGIN:VEVENT
UID:4626108:Event:97875
DTSTAMP:20260423T005803Z
SUMMARY:Fabulous Women Late Breakfast, Cobham
DESCRIPTION:Fabulous Women Cobham (LAUNCH!) at The Long Barn\r\nCan yo
 u join us for an uplifting morning of business networking in a warm bu
 t professional environment? I’m Gilles Pelenc and I look forward to 
 welcoming you.\r\n\r\nOur agenda typically includes:\r\n\r\nInformal n
 etworking\r\nA networking tip\r\nA business card shuffle\r\nA one minu
 te introduction round\r\nSpeaker who this month is\r\nBusiness develop
 ment slot\r\n\r\nWe encourage you to prepare a one minute introduction
  to you and your business. If this makes you nervous please feel free 
 to read your prepared script.\r\nIt really helps if you can book so pl
 ease click on the link before (and if you are a member please remember
  to login first so you don’t have to retype all your details). Remem
 ber to bring plenty of business cards and marketing material and your 
 £10 meeting fee. Visitors are welcome to attend two Fabulous Women an
 d Marvellous Men meetings before joining.\r\nThis month our speaker is
  Ian Crocker whose talk is entitled ‘Increasing your impact throug
 h collaboration’.\r\nThis group meets on the first Friday of each mo
 nth. We look forward to meeting you.\r\nCOST: £10 for Guests and FW
  members (cash only please, on the door!)\r\nBOOKING: Please CLICK H
 ERE to visit our website then click on the pink \"Yes I'm Attending\"
  button at the bottom - or for more info please call Gilles on 07877
  498845  or email gilles@gillespelenc.com\r\nMAP\r\n-----------------
 --------------------------\r\nFabulous Women & Marvellous Men\r\nRefre
 shingly different networking with, as ethos, connect, collaborate, su
 pport and succeed.  To learn more about FWMM: https://fabulous-women
 .co.uk/about \r\nFind other local Fabulous Women events here on Net
 working in Surrey...\n\nFor more information visit https://networkingi
 nsurrey.co.uk/events/launch-event-fabulous-women-late-breakfast-cobham
 -1
DTSTART;TZID=Europe/London:20180504T100000
DTEND;TZID=Europe/London:20180504T120000
CATEGORIES:business, networking, morning
LOCATION:Accrue Workplaces The Long Barn KT11 3NE
WEBSITE:https://fabulous-women.co.uk/event/detail_3010
URL:https://fabulous-women.co.uk/event/detail_3010
CONTACT:07877 498845
ORGANIZER:Gilles Pelenc
ATTACH;FMTTYPE="image/jpeg":http://storage.ning.com/topology/rest/1.0/
 file/get/1179757333?profile=original
ATTENDEE;ROLE=REQ-PARTICIPANT;PARTSTAT=ACCEPTED;RSVP=TRUE;CN="Keith Gr
 over, NiS Founder":https://networkinginsurrey.co.uk/profile/KeithGrove
 r
END:VEVENT
END:VCALENDAR
