BEGIN:VCALENDAR
PRODID:NingEventWidget-v1
VERSION:2.0
METHOD:PUBLISH
BEGIN:VTIMEZONE
TZID:Europe/London
X-LIC-LOCATION:Europe/London
BEGIN:DAYLIGHT
TZOFFSETFROM:+0000
TZOFFSETTO:+0100
TZNAME:BST
DTSTART:19700329T010000
RRULE:FREQ=YEARLY;BYMONTH=3;BYDAY=-1SU
END:DAYLIGHT
BEGIN:STANDARD
TZOFFSETFROM:+0100
TZOFFSETTO:+0000
TZNAME:GMT
DTSTART:19701025T020000
RRULE:FREQ=YEARLY;BYMONTH=10;BYDAY=-1SU
END:STANDARD
END:VTIMEZONE
BEGIN:VEVENT
UID:4626108:Event:7127
DTSTAMP:20260423T181507Z
SUMMARY:LAUNCH EVENT: Business @ Brooklands Morning, Weybridge
DESCRIPTION:Business @ Brooklands Launch, Weybridge\n\nBusiness@Brookl
 ands will be launched with a networking event held the Brooklands Hote
 l on Friday 25 February 2011 at 11.00am. and attended by Rt Hon. Phili
 p Hammond MP,  the Mayor of Elmbridge, Councillor Barry Cheyne, and 
 publicist Max Clifford\nAll businesses within the Brooklands Business 
 Park are invited to attend\nCOST: £10  \nFree of charge to Enhance
 d, Gold & Platinum Members (Please see Membership page for more detai
 ls).\nBusinesses outside the park (by invitation only) £15 per person
  incl. VAT.\nBrooklands Hotel will also be offering attendees a discou
 nt for lunch in the Brasserie after the event.\nTo enquire about the e
 vent, please email us on subscriptions@businessatbrooklands.co.uk\nVEN
 UE\nMAP & DIRECTIONS\nEvents will be held every quarter at different v
 enues within the Brooklands area. If you would like to host an event p
 lease let us know!\n\nFor more information visit https://networkingins
 urrey.co.uk/events/launch-event-business
DTSTART;TZID=Europe/London:20110225T110000
DTEND;TZID=Europe/London:20110225T130000
CATEGORIES:morning, weybridge
LOCATION:The Brooklands Hotel KT13 0SL
WEBSITE:http://www.businessatbrooklands.co.uk/index.html
URL:http://www.businessatbrooklands.co.uk/index.html
CONTACT:01932 339039
ORGANIZER:Karen Sutton, Limelight Design & Marketing
ATTACH;FMTTYPE="image/jpeg":http://storage.ning.com/topology/rest/1.0/
 file/get/2591390513?profile=original
ATTENDEE;ROLE=REQ-PARTICIPANT;PARTSTAT=ACCEPTED;RSVP=TRUE;CN="Keith Gr
 over, NiS Founder":https://networkinginsurrey.co.uk/profile/KeithGrove
 r
END:VEVENT
END:VCALENDAR
