BEGIN:VCALENDAR
PRODID:NingEventWidget-v1
VERSION:2.0
METHOD:PUBLISH
BEGIN:VTIMEZONE
TZID:Europe/London
X-LIC-LOCATION:Europe/London
BEGIN:DAYLIGHT
TZOFFSETFROM:+0000
TZOFFSETTO:+0100
TZNAME:BST
DTSTART:19700329T010000
RRULE:FREQ=YEARLY;BYMONTH=3;BYDAY=-1SU
END:DAYLIGHT
BEGIN:STANDARD
TZOFFSETFROM:+0100
TZOFFSETTO:+0000
TZNAME:GMT
DTSTART:19701025T020000
RRULE:FREQ=YEARLY;BYMONTH=10;BYDAY=-1SU
END:STANDARD
END:VTIMEZONE
BEGIN:VEVENT
UID:4626108:Event:4395
DTSTAMP:20260425T171523Z
SUMMARY:LAUNCH EVENT - Business over Breakfast, Kingston-upon-Thames
DESCRIPTION:Business over Breakfast at Coombe Wood Golf Club\n\nHere a
 t the BoB Club in Kingston Upon Thames we are looking for successful n
 ew members who are keen to network in Kingston Upon Thames.\nFor those
  of you who may have tried networking before and felt under pressure t
 o refer each week, try BoB Networking as we concentrate on quality ref
 errals rather than quantity at our meetings.\nSo come along and try ou
 r lively group and learn more about how Networking through BoB clubs c
 an help both you and your business.\nCOST: £10 including breakfast\nB
 OOK HERE\nMAP\n------------\nAll that new members have to do to secure
  a place in the group and to lock out their competitors is pay the one
 -off registration fee of £95+VAT (£111.63). The annual membership fe
 e only becomes due when the club officially launches with 15 signed up
  members\n\nFor more information visit https://networkinginsurrey.co.u
 k/events/launch-event-business-over
DTSTART;TZID=Europe/London:20101014T070000
DTEND;TZID=Europe/London:20101014T090000
CATEGORIES:breakfast, kingston-upon-thames, business_networking_surrey
LOCATION:Coombe Wood Golf Club KT2 7NS
WEBSITE:http://www.bobclubs.com/Club/Kingston-upon-Thames
URL:http://www.bobclubs.com/Club/Kingston-upon-Thames
CONTACT:07979 961519
ORGANIZER:Samantha New-Fielding
ATTACH;FMTTYPE="image/jpeg":http://storage.ning.com/topology/rest/1.0/
 file/get/2591386978?profile=original
END:VEVENT
END:VCALENDAR
