BEGIN:VCALENDAR
PRODID:NingEventWidget-v1
VERSION:2.0
METHOD:PUBLISH
BEGIN:VTIMEZONE
TZID:Europe/London
X-LIC-LOCATION:Europe/London
BEGIN:DAYLIGHT
TZOFFSETFROM:+0000
TZOFFSETTO:+0100
TZNAME:BST
DTSTART:19700329T010000
RRULE:FREQ=YEARLY;BYMONTH=3;BYDAY=-1SU
END:DAYLIGHT
BEGIN:STANDARD
TZOFFSETFROM:+0100
TZOFFSETTO:+0000
TZNAME:GMT
DTSTART:19701025T020000
RRULE:FREQ=YEARLY;BYMONTH=10;BYDAY=-1SU
END:STANDARD
END:VTIMEZONE
BEGIN:VEVENT
UID:4626108:Event:10803
DTSTAMP:20260422T143519Z
SUMMARY:LAUNCH EVENT: Business over Breakfast, Kingston upon Thames
DESCRIPTION:BoB Club Breakfast at Coombe Wood \n\nOur approach and c
 ulture is so different to the way many businesses have networked in Su
 rrey for the past 13 years. To see people enjoying the experience and 
 seeing value in what they are getting makes this new venture so pleasi
 ng.\nOur fortnightly meetings provide the platform to network in a pro
 fessionally structured environment that is relaxed and pressure free. 
 Every member is given an opportunity to do a short business overview t
 o the group and one member is given 10 minutes to carry out a more com
 prehensive “Showcase” presentation about their business\nWe work h
 ard to give our members more focus on the face to face networking and 
 we are also investing to make them more visible to potential customers
  on the internet\nWe actively encourage our members to use the BoB Clu
 b network by visiting other groups and to help get a better return on 
 investment\nThere is NO PRESSURE on members or visitors to give referr
 als at every meeting as this only encourages people to give worthless 
 referrals that are not worth pursuing. Our members are more interested
  in Quality NOT Quantity - but don’t just take our word for it, atte
 nd as a visitor and experience BoB Clubs for yourself.\nThere are club
 s being set up in Guildford, Kingston upon Thames, Weybridge, Carshalt
 on, Farnham, Cobham and Woking.\nCLICK HERE to visit our website for
  more information.  \nTO BOOK: Please call Ian Morgan 07702 783233 o
 r email ian@networkingsoutheast.com\nMAP\n----------------------------
 -------\nBeing a member of BoB Clubs helps you find new customers easi
 er and quicker than your competition. Securing your exclusive place at
  BoB Clubs means you have a better chance of gaining quality referrals
  as you have members within the club promoting and recommending your p
 roducts and services by word-of-mouth. Another benefit is you have the
  opportunity to improve your presentation and communication skills as 
 well as boosting your confidence.\n\nFor more information visit https:
 //networkinginsurrey.co.uk/events/launch-event-business-over-1
DTSTART;TZID=Europe/London:20110317T064500
DTEND;TZID=Europe/London:20110317T083000
CATEGORIES:breakfast, business_networking_surrey, kingston
LOCATION:Coombe Wood Golf Club KT2 7NS
WEBSITE:http://www.bobclubs.com/Club/Kingston-upon-Thames
URL:http://www.bobclubs.com/Club/Kingston-upon-Thames
CONTACT:07702 783233
ORGANIZER:Ian Morgan
ATTACH;FMTTYPE="image/jpeg":http://storage.ning.com/topology/rest/1.0/
 file/get/2470848685?profile=original
ATTENDEE;ROLE=REQ-PARTICIPANT;PARTSTAT=TENTATIVE;RSVP=TRUE;CN="Keith G
 rover, NiS Founder":https://networkinginsurrey.co.uk/profile/KeithGrov
 er
END:VEVENT
END:VCALENDAR
