BEGIN:VCALENDAR
PRODID:NingEventWidget-v1
VERSION:2.0
METHOD:PUBLISH
BEGIN:VTIMEZONE
TZID:Europe/London
X-LIC-LOCATION:Europe/London
BEGIN:DAYLIGHT
TZOFFSETFROM:+0000
TZOFFSETTO:+0100
TZNAME:BST
DTSTART:19700329T010000
RRULE:FREQ=YEARLY;BYMONTH=3;BYDAY=-1SU
END:DAYLIGHT
BEGIN:STANDARD
TZOFFSETFROM:+0100
TZOFFSETTO:+0000
TZNAME:GMT
DTSTART:19701025T020000
RRULE:FREQ=YEARLY;BYMONTH=10;BYDAY=-1SU
END:STANDARD
END:VTIMEZONE
BEGIN:VEVENT
UID:4626108:Event:9763
DTSTAMP:20260422T232453Z
SUMMARY:LAUNCH EVENT: BoB Clubs Business over Breakfast, Farnham
DESCRIPTION:BoB Club Breakfast at The Ramada\nOur approach and culture
  is so different to the way many businesses have networked in Surrey f
 or the past 13 years. To see people enjoying the experience and seeing
  value in what they are getting makes this new venture so pleasing.\nO
 ur fortnightly meetings provide the platform to network in a professio
 nally structured environment that is relaxed and pressure free. Every 
 member is given an opportunity to do a short business overview to the 
 group and one member is given 10 minutes to carry out a more comprehen
 sive “Showcase” presentation about their business\nWe work hard to
  give our members more focus on the face to face networking and we are
  also investing to make them more visible to potential customers on th
 e internet\nWe actively encourage our members to use the BoB Club netw
 ork by visiting other groups and to help get a better return on invest
 ment\nThere is NO PRESSURE on members or visitors to give referrals at
  every meeting as this only encourages people to give worthless referr
 als that are not worth pursuing. Our members are more interested in Qu
 ality NOT Quantity - but don’t just take our word for it, attend as 
 a visitor and experience BoB Clubs for yourself.\nThere are clubs bein
 g set up in Guildford, Kingston upon Thames, Weybridge, Carshalton, F
 arnham, Cobham and Woking.\nCLICK HERE to visit our website for more 
 information.  \nTO BOOK: Please call Ian Morgan 07702 783233 or emai
 l ian@networkingsoutheast.com\nMAP\n----------------------------------
 -\nBeing a member of BoB Clubs helps you find new customers easier and
  quicker than your competition. Securing your exclusive place at BoB C
 lubs means you have a better chance of gaining quality referrals as yo
 u have members within the club promoting and recommending your product
 s and services by word-of-mouth. Another benefit is you have the oppor
 tunity to improve your presentation and communication skills as well a
 s boosting your confidence.\n\nFor more information visit https://netw
 orkinginsurrey.co.uk/events/launch-event-bob-clubs
DTSTART;TZID=Europe/London:20110401T064500
DTEND;TZID=Europe/London:20110401T083000
CATEGORIES:breakfast, business_networking_surrey, farnham
LOCATION:Ramada Farnham GU10 1EX
WEBSITE:http://www.bobclubs.com/Club/Farnham
URL:http://www.bobclubs.com/Club/Farnham
CONTACT:07753 709618
ORGANIZER:Sue Warwick
ATTACH;FMTTYPE="image/jpeg":http://storage.ning.com/topology/rest/1.0/
 file/get/2591390780?profile=original
ATTENDEE;ROLE=REQ-PARTICIPANT;PARTSTAT=ACCEPTED;RSVP=TRUE;CN="Ian Morg
 an":https://networkinginsurrey.co.uk/profile/IanMorgan
END:VEVENT
END:VCALENDAR
