BEGIN:VCALENDAR
PRODID:NingEventWidget-v1
VERSION:2.0
METHOD:PUBLISH
BEGIN:VTIMEZONE
TZID:Europe/London
X-LIC-LOCATION:Europe/London
BEGIN:DAYLIGHT
TZOFFSETFROM:+0000
TZOFFSETTO:+0100
TZNAME:BST
DTSTART:19700329T010000
RRULE:FREQ=YEARLY;BYMONTH=3;BYDAY=-1SU
END:DAYLIGHT
BEGIN:STANDARD
TZOFFSETFROM:+0100
TZOFFSETTO:+0000
TZNAME:GMT
DTSTART:19701025T020000
RRULE:FREQ=YEARLY;BYMONTH=10;BYDAY=-1SU
END:STANDARD
END:VTIMEZONE
BEGIN:VEVENT
UID:4626108:Event:1786
DTSTAMP:20260425T202557Z
SUMMARY:Launch Event! 4Networking Business Breakfast, Walton & Weybrid
 ge
DESCRIPTION:Launch Event! 4Networking Business Breakfast, Walton & Wey
 bridge\n\nA 4Networking business breakfast is the most effective way t
 o promote your business and services through networking... our dynamic
  format allows you to quickly build contacts, leads and win new busine
 ss.\n4Sight Speaker - Tamsen Garrie (Alpha Associates Ltd) \nTamsen is
  our inspirational 4sight speaker to launch the new venue... AlphaTher
 apy (part of Alpha Associates) is a Hypnotherapy, practice, assisting 
 people to make significant changes to the way they think, feel and beh
 ave and to ultimately live a more fulfilling life!\nCOST £10.00 per p
 erson MEMBERS BOOK HERE\nNon-members can register for FREE online memb
 ership to come along for a trial meeting (cost £10) and enjoy 'the 4N
 etworking experience' - give it a go!\nMAP\nVENUE\n-------------------
 ---------------------\n4Networking has 24,000 members and 200 linked b
 reakfast groups around the country. Following breakfast and the 4Sight
  speaker, you'll then have 3, 10 minute appointments, these 1-1s work 
 brilliantly and allow you to fast track new business relationships. Th
 e group has an unstuffy culture, people attend because they want to, n
 ot because they have to. Members can attend any group in the country a
 nd anyone is welcome. See details on our website www.4networking.biz\n
 \nFor more information visit https://networkinginsurrey.co.uk/events/l
 aunch-event-4networking
DTSTART;TZID=Europe/London:20100423T080000
DTEND;TZID=Europe/London:20100423T100000
CATEGORIES:breakfast, walton, weybridge, 4networking
LOCATION:The Swan, Walton-on-Thames KT12 2PF
WEBSITE:http://www.4networking.biz/events/11860.htm
URL:http://www.4networking.biz/events/11860.htm
CONTACT:
ORGANIZER:Sonia Duggan
ATTACH;FMTTYPE="image/jpeg":http://storage.ning.com/topology/rest/1.0/
 file/get/2591379824?profile=original
ATTENDEE;ROLE=REQ-PARTICIPANT;PARTSTAT=ACCEPTED;RSVP=TRUE;CN="Caroline
  Walsh":https://networkinginsurrey.co.uk/profile/CarolineWalsh
ATTENDEE;ROLE=REQ-PARTICIPANT;PARTSTAT=ACCEPTED;RSVP=TRUE;CN="Derek Wi
 lliamson":https://networkinginsurrey.co.uk/profile/DerekWilliamson
ATTENDEE;ROLE=REQ-PARTICIPANT;PARTSTAT=TENTATIVE;RSVP=TRUE;CN="Robyn H
 atley":https://networkinginsurrey.co.uk/profile/RobynHatley
ATTENDEE;ROLE=REQ-PARTICIPANT;PARTSTAT=TENTATIVE;RSVP=TRUE;CN="Keith G
 rover, NiS Founder":https://networkinginsurrey.co.uk/profile/KeithGrov
 er
END:VEVENT
END:VCALENDAR
