BEGIN:VCALENDAR
PRODID:NingEventWidget-v1
VERSION:2.0
METHOD:PUBLISH
BEGIN:VTIMEZONE
TZID:Europe/London
X-LIC-LOCATION:Europe/London
BEGIN:DAYLIGHT
TZOFFSETFROM:+0000
TZOFFSETTO:+0100
TZNAME:BST
DTSTART:19700329T010000
RRULE:FREQ=YEARLY;BYMONTH=3;BYDAY=-1SU
END:DAYLIGHT
BEGIN:STANDARD
TZOFFSETFROM:+0100
TZOFFSETTO:+0000
TZNAME:GMT
DTSTART:19701025T020000
RRULE:FREQ=YEARLY;BYMONTH=10;BYDAY=-1SU
END:STANDARD
END:VTIMEZONE
BEGIN:VEVENT
UID:4626108:Event:19330
DTSTAMP:20260424T184058Z
SUMMARY:LAUNCH EVENT: 4Networking Breakfast, Richmond
DESCRIPTION:4N Richmond Launch at the Coach & Horses\n\nThe 4Networkin
 g community continues its rapid growth with a new group in Richmond le
 d by NiS Member Dan Smale.\nDan says: \"If you'd like to attend visit 
 www.4networking.biz and go to the Meet section, then search Richmond o
 r go to events on 16th June and book yourself in. Alternatively, you c
 an email dan.smale@theclientfactory.co.uk or call me on 07956 329260 a
 nd I'll book you in.\nLaunch events for 4 Networking are always very w
 ell attended and Richmond will I'm sure be oversubscribed.\"\nNon-memb
 ers can register for FREE online membership to come along for a trial 
 meeting (cost £10) and enjoy 'the 4Networking experience' - give it a
  go!\nCOST: £10 meeting fee (includes breakast)\nMAP\nVENUE\n--------
 --------------------------------\n4Networking has 24,000 members and 2
 00 linked breakfast groups around the country. Following breakfast and
  the 4Sight speaker, you'll then have 3, 10 minute appointments, these
  1-1s work brilliantly and allow you to fast track new business relati
 onships. The group has an unstuffy culture, people attend because they
  want to, not because they have to. Members can attend any group in th
 e country and anyone is welcome. See details on our website www.4netwo
 rking.biz\n﻿\n\nFor more information visit https://networkinginsurre
 y.co.uk/events/launch-event-4networking-1
DTSTART;TZID=Europe/London:20110616T080000
DTEND;TZID=Europe/London:20110616T100000
CATEGORIES:4, networking, breakfast, meeting
LOCATION:The Coach and Horses TW9 3BH
WEBSITE:http://www.4networking.biz/Events/Group/Richmond
URL:http://www.4networking.biz/Events/Group/Richmond
CONTACT:
ORGANIZER;CN="Dan Smale":https://networkinginsurrey.co.uk/profile/DanS
 male
ATTACH;FMTTYPE="image/jpeg":http://storage.ning.com/topology/rest/1.0/
 file/get/2591393999?profile=original
ATTENDEE;ROLE=REQ-PARTICIPANT;PARTSTAT=ACCEPTED;RSVP=TRUE;CN="Dan Smal
 e":https://networkinginsurrey.co.uk/profile/DanSmale
END:VEVENT
END:VCALENDAR
