BEGIN:VCALENDAR
PRODID:NingEventWidget-v1
VERSION:2.0
METHOD:PUBLISH
BEGIN:VTIMEZONE
TZID:Europe/London
X-LIC-LOCATION:Europe/London
BEGIN:DAYLIGHT
TZOFFSETFROM:+0000
TZOFFSETTO:+0100
TZNAME:BST
DTSTART:19700329T010000
RRULE:FREQ=YEARLY;BYMONTH=3;BYDAY=-1SU
END:DAYLIGHT
BEGIN:STANDARD
TZOFFSETFROM:+0100
TZOFFSETTO:+0000
TZNAME:GMT
DTSTART:19701025T020000
RRULE:FREQ=YEARLY;BYMONTH=10;BYDAY=-1SU
END:STANDARD
END:VTIMEZONE
BEGIN:VEVENT
UID:4626108:Event:75805
DTSTAMP:20260425T221729Z
SUMMARY:Guildford Ladies Visitors Morning, Guildford
DESCRIPTION:Guildford Ladies Morning at The Mandolay\nAre you looking 
 for a female-orientated business support and networking group in the G
 uildford area?\nGuildford Ladies is a local group for local business w
 omen in Guildford and the surrounding area. Guildford Ladies has been 
 running successfully for over four years – it’s a lively and relax
 ed event which we know you’ll enjoy – it’s a great introduction 
 to networking for business women in Guildford.\nIt really is the most 
 powerful way to find customers and grow your business but don’t take
  our word for it, come along and find out for yourself.\nEveryone will
  have an opportunity to tell the group about themselves in 60 seconds 
 (or less) – we’d like to know..\n1. Who you are 2. What your busin
 ess does 3. What makes your business special or different 4. Particula
 r customers you are looking for right now (referrals) 5. Don’t forge
 t to repeat your name and business name again at the end and add a str
 ap line if you really want to create an impression!\nAfter we’ve hea
 rd from everyone, we will have a 10 minute presentation from one of ou
 r members, then there will be a One2One section whereby you pick a bus
 iness in the room you’d like to know a bit more about and spend 10 m
 inutes together, finally we wrap up the meeting by going around the ro
 om once more, hearing from people who have done business with someone 
 else at the meeting or who would like to meet up with someone in the m
 eeting. \nSome of the most valuable networking takes place before the
  meeting starts (and afterwards) so try to arrive for 10:30 AM if poss
 ible so that you have a good 30 minutes to mingle and talk casually to
  other attendees.\nHope you can join us for our last meeting of 2015 a
 nd it's going to be a busy one as it's a visitors day, we look forward
  to seeing you there!\nCOST: £12 including coffee and pastries\nBOOKI
 NG: Please CLICK HERE to book in as a Visitor\nMAP\n\nFor more infor
 mation visit https://networkinginsurrey.co.uk/events/late-morning-netw
 orking-guildford-ladies-visitors-day-november
DTSTART;TZID=Europe/London:20151125T110000
DTEND;TZID=Europe/London:20151125T130000
CATEGORIES:networking
LOCATION:Mandolay Hotel
WEBSITE:http://connectsurrey.uk/guildford-ladies/
URL:http://connectsurrey.uk/guildford-ladies/
CONTACT:07525 738758
ORGANIZER;CN="Sally Castro Gouveia":https://networkinginsurrey.co.uk/p
 rofile/SallyCastroGouveia
ATTACH;FMTTYPE="image/jpeg":http://storage.ning.com/topology/rest/1.0/
 file/get/2591451775?profile=original
ATTENDEE;ROLE=REQ-PARTICIPANT;PARTSTAT=ACCEPTED;RSVP=TRUE;CN="Sally Ca
 stro Gouveia":https://networkinginsurrey.co.uk/profile/SallyCastroGouv
 eia
END:VEVENT
END:VCALENDAR
