BEGIN:VCALENDAR
PRODID:NingEventWidget-v1
VERSION:2.0
METHOD:PUBLISH
BEGIN:VTIMEZONE
TZID:Europe/London
X-LIC-LOCATION:Europe/London
BEGIN:DAYLIGHT
TZOFFSETFROM:+0000
TZOFFSETTO:+0100
TZNAME:BST
DTSTART:19700329T010000
RRULE:FREQ=YEARLY;BYMONTH=3;BYDAY=-1SU
END:DAYLIGHT
BEGIN:STANDARD
TZOFFSETFROM:+0100
TZOFFSETTO:+0000
TZNAME:GMT
DTSTART:19701025T020000
RRULE:FREQ=YEARLY;BYMONTH=10;BYDAY=-1SU
END:STANDARD
END:VTIMEZONE
BEGIN:VEVENT
UID:4626108:Event:103402
DTSTAMP:20260424T191525Z
SUMMARY:FREE Ladies Who Latte Morning, Kingston
DESCRIPTION:Ladies Who Latte Morning at the DoubleTree by Hilton, King
 ston We are a friendly and relaxed Ladies Who Latte group who meet for
  coffee and a chat on the last Monday of the month. \r\nThe idea is t
 hat you meet and form business relationships with like-minded people. 
 You make the relationships, we provide the opportunity and environment
  in which to do it. There are no limits to who can attend.\r\nEveryone
  has a minute to introduce themselves and their business and there are
  no membership fees: simply £5 in cash on the day to cover cost of c
 offee and tea. Please remember to bring business cards and leaflets t
 o display on the table for others to pick up. Don’t forget to bring 
 your smile too!\r\nCOST:  £5 to cover tea or coffee\r\nBOOKING: No n
 eed to book - just turn up!\r\nMAP\r\nThere is chargeable parking at S
 even Kings Car park opposite the venue. \r\n \r\n\n\nFor more inform
 ation visit https://networkinginsurrey.co.uk/events/ladies-who-latte
DTSTART;TZID=Europe/London:20190125T103000
DTEND;TZID=Europe/London:20190125T123000
CATEGORIES:free, morning, women, networking, kingston
LOCATION:DoubleTree by Hilton
WEBSITE:https://www.google.com/maps/place/Kingston+upon+Thames+KT2+5FJ
 /@51.413751,-0.307675,17z/data=!3m1!4b1!4m5!3m4!1s0x48760b94bb4a0f27:0
 x7a76619d2580ac9d!8m2!3d51.4137477!4d-0.3054863
URL:https://www.google.com/maps/place/Kingston+upon+Thames+KT2+5FJ/@51
 .413751,-0.307675,17z/data=!3m1!4b1!4m5!3m4!1s0x48760b94bb4a0f27:0x7a7
 6619d2580ac9d!8m2!3d51.4137477!4d-0.3054863
CONTACT:
ORGANIZER;CN="Caroline Giaconella":https://networkinginsurrey.co.uk/pr
 ofile/CarolineGiaconella
ATTACH;FMTTYPE="image/jpeg":https://storage.ning.com/topology/rest/1.0
 /file/get/861341601?profile=original
ATTENDEE;ROLE=REQ-PARTICIPANT;PARTSTAT=ACCEPTED;RSVP=TRUE;CN="Caroline
  Giaconella":https://networkinginsurrey.co.uk/profile/CarolineGiaconel
 la
END:VEVENT
END:VCALENDAR
