BEGIN:VCALENDAR
PRODID:NingEventWidget-v1
VERSION:2.0
METHOD:PUBLISH
BEGIN:VTIMEZONE
TZID:Europe/London
X-LIC-LOCATION:Europe/London
BEGIN:DAYLIGHT
TZOFFSETFROM:+0000
TZOFFSETTO:+0100
TZNAME:BST
DTSTART:19700329T010000
RRULE:FREQ=YEARLY;BYMONTH=3;BYDAY=-1SU
END:DAYLIGHT
BEGIN:STANDARD
TZOFFSETFROM:+0100
TZOFFSETTO:+0000
TZNAME:GMT
DTSTART:19701025T020000
RRULE:FREQ=YEARLY;BYMONTH=10;BYDAY=-1SU
END:STANDARD
END:VTIMEZONE
BEGIN:VEVENT
UID:4626108:Event:4669
DTSTAMP:20260425T015118Z
SUMMARY:Ladies Who Latte Morning, Sutton
DESCRIPTION:Ladies Who Latte is a business networking group with the a
 im of putting women in business in contact with each other for their m
 utual benefit. Unlike many other networking groups we will never tie y
 ou in with high joining fees or long-term commitments; simply come alo
 ng, chat and network, listen to our speakers, network some more if you
  like, then go back to work! All it costs you is your time and your co
 ffee... and maybe a cake!\n\nFor more information visit https://networ
 kinginsurrey.co.uk/events/ladies-who-latte-morning
DTSTART;TZID=Europe/London:20101102T100000
DTEND;TZID=Europe/London:20101102T120000
CATEGORIES:"women's", networking
LOCATION:Holiday Inn Sutton
WEBSITE:http://maps.google.com/maps?f=q&source=s_q&hl=en&geocode=&q=Ho
 liday+Inn+near+Sutton,+United+Kingdom&sll=37.0625,-95.677068&sspn=31.7
 84549,54.84375&ie=UTF8&hq=Holiday+Inn&hnear=Sutton,+Greater+London,+Un
 ited+Kingdom&ll=51.380781,-0.178871&spn=0.092355,0.214233&z=12
URL:http://maps.google.com/maps?f=q&source=s_q&hl=en&geocode=&q=Holida
 y+Inn+near+Sutton,+United+Kingdom&sll=37.0625,-95.677068&sspn=31.78454
 9,54.84375&ie=UTF8&hq=Holiday+Inn&hnear=Sutton,+Greater+London,+United
 +Kingdom&ll=51.380781,-0.178871&spn=0.092355,0.214233&z=12
CONTACT:07942 861937
ORGANIZER;CN="Yvonne Stone":https://networkinginsurrey.co.uk/profile/Y
 vonneStone
ATTACH;FMTTYPE="image/jpeg":http://storage.ning.com/topology/rest/1.0/
 file/get/2591387456?profile=original
ATTENDEE;ROLE=REQ-PARTICIPANT;PARTSTAT=ACCEPTED;RSVP=TRUE;CN="Yvonne S
 tone":https://networkinginsurrey.co.uk/profile/YvonneStone
ATTENDEE;ROLE=REQ-PARTICIPANT;PARTSTAT=TENTATIVE;RSVP=TRUE;CN="Rosemar
 y Hemmett":https://networkinginsurrey.co.uk/profile/RosemaryHemmett
END:VEVENT
END:VCALENDAR
