BEGIN:VCALENDAR
PRODID:NingEventWidget-v1
VERSION:2.0
METHOD:PUBLISH
BEGIN:VTIMEZONE
TZID:Europe/London
X-LIC-LOCATION:Europe/London
BEGIN:DAYLIGHT
TZOFFSETFROM:+0000
TZOFFSETTO:+0100
TZNAME:BST
DTSTART:19700329T010000
RRULE:FREQ=YEARLY;BYMONTH=3;BYDAY=-1SU
END:DAYLIGHT
BEGIN:STANDARD
TZOFFSETFROM:+0100
TZOFFSETTO:+0000
TZNAME:GMT
DTSTART:19701025T020000
RRULE:FREQ=YEARLY;BYMONTH=10;BYDAY=-1SU
END:STANDARD
END:VTIMEZONE
BEGIN:VEVENT
UID:4626108:Event:544222
DTSTAMP:20260425T152026Z
SUMMARY:Ladies Who Latte Morning Live! Farnham
DESCRIPTION:Ladies Who Latte Coffee Time at the Hogs Back Hotel \r\n\r
 \nWe are a friendly and well established group for local women in busi
 ness to connect, make friends and support one another.  \r\nEveryone h
 as the opportunity at our meetings to give a brief introduction to the
 ir business and mention any support/offers/contacts they are looking f
 or help with.\r\n\r\nTo attend 1.Book online to reserve your place for
  the meeting date you are attending. 2. When you arrive at the meeting
 , check in and pay Â£6 for unlimited coffee/teaÂ \r\nPlease remember t
 o bring business cards and leaflets to display on the table for others
  to pick up. No product displays allowed.\r\nCOST:Â  Â£6.00Â  Unlimite
 dÂ  teas or coffee\r\nBOOKING: Please CLICK HERE to book your placeÂ Â
  \r\nMAP\r\n\r\n\r\n\n\nFor more information visit https://networkingi
 nsurrey.co.uk/events/ladies-who-latte-morning-live-farnham
DTSTART;TZID=Europe/London:20241128T100000
DTEND;TZID=Europe/London:20241128T113000
CATEGORIES:free, morning, women, networking, farnham
LOCATION:Hog's Back Hotel GU10 1EX
WEBSITE:https://www.google.co.uk/maps/@51.226293,-0.7246604,17z?hl=en
URL:https://www.google.co.uk/maps/@51.226293,-0.7246604,17z?hl=en
CONTACT:
ORGANIZER:Katie Shorrock
ATTACH;FMTTYPE="image/jpeg":https://storage.ning.com/topology/rest/1.0
 /file/get/10972040470?profile=original
ATTENDEE;ROLE=REQ-PARTICIPANT;PARTSTAT=ACCEPTED;RSVP=TRUE;CN="Keith Gr
 over, NiS Founder":https://networkinginsurrey.co.uk/profile/KeithGrove
 r
END:VEVENT
END:VCALENDAR
