BEGIN:VCALENDAR
PRODID:NingEventWidget-v1
VERSION:2.0
METHOD:PUBLISH
BEGIN:VTIMEZONE
TZID:Europe/London
X-LIC-LOCATION:Europe/London
BEGIN:DAYLIGHT
TZOFFSETFROM:+0000
TZOFFSETTO:+0100
TZNAME:BST
DTSTART:19700329T010000
RRULE:FREQ=YEARLY;BYMONTH=3;BYDAY=-1SU
END:DAYLIGHT
BEGIN:STANDARD
TZOFFSETFROM:+0100
TZOFFSETTO:+0000
TZNAME:GMT
DTSTART:19701025T020000
RRULE:FREQ=YEARLY;BYMONTH=10;BYDAY=-1SU
END:STANDARD
END:VTIMEZONE
BEGIN:VEVENT
UID:4626108:Event:1871
DTSTAMP:20260425T220156Z
SUMMARY:Ladies Who Latte Morning (FREE), Sutton
DESCRIPTION:Ladies Who Latte Morning\n\nLadies Who Latte in Sutton is 
 a group of dynamic and fun business women who meet to exchange ideas a
 nd make positive business connections.\nThis informal, but vibrant net
 working get together for women is organsied by meeting on the last Tue
 sday of each month. For the cost of a cup of coffee (or tea) you can c
 ome along and connect with other local Business Women, so do please jo
 in us...\nCOST: FREE (£1 for coffee - doesn't have to be latte!)\nMAP
 \n-------------------------------------\n The Sutton event is hosted b
 y Louise Sutherland and NiS Member Yvonne Stone\n\nFor more informatio
 n visit https://networkinginsurrey.co.uk/events/ladies-who-latte-morni
 ng-free-1
DTSTART;TZID=Europe/London:20100427T100000
DTEND;TZID=Europe/London:20100427T120000
CATEGORIES:morning, free, sutton, women, ladies_who_latte
LOCATION:Holiday Inn, Sutton SM1 2RF
WEBSITE:
URL:
CONTACT:
ORGANIZER:Louise Sutherland & Yvonne Stone
ATTACH;FMTTYPE="image/jpeg":http://storage.ning.com/topology/rest/1.0/
 file/get/2470848676?profile=original
ATTENDEE;ROLE=REQ-PARTICIPANT;PARTSTAT=ACCEPTED;RSVP=TRUE;CN="Heidi Ri
 ce":https://networkinginsurrey.co.uk/profile/HeidiRice
END:VEVENT
END:VCALENDAR
