BEGIN:VCALENDAR
PRODID:NingEventWidget-v1
VERSION:2.0
METHOD:PUBLISH
BEGIN:VTIMEZONE
TZID:Europe/London
X-LIC-LOCATION:Europe/London
BEGIN:DAYLIGHT
TZOFFSETFROM:+0000
TZOFFSETTO:+0100
TZNAME:BST
DTSTART:19700329T010000
RRULE:FREQ=YEARLY;BYMONTH=3;BYDAY=-1SU
END:DAYLIGHT
BEGIN:STANDARD
TZOFFSETFROM:+0100
TZOFFSETTO:+0000
TZNAME:GMT
DTSTART:19701025T020000
RRULE:FREQ=YEARLY;BYMONTH=10;BYDAY=-1SU
END:STANDARD
END:VTIMEZONE
BEGIN:VEVENT
UID:4626108:Event:74783
DTSTAMP:20260426T003542Z
SUMMARY:Ladies who Latte Morning, Farnham
DESCRIPTION:Ladies Who Latte Morning at Farnham Golf Club\n\nWe are a 
 friendly and relaxed Ladies Who Latte group who meet for coffee and a 
 chat once a month. \nThe idea is that you meet and form business rela
 tionships with like-minded people. You make the relationships, we prov
 ide the opportunity and environment in which to do it. There are no li
 mits to who can attend.\nEveryone has a minute to introduce themselves
  and their business and there are no membership fees: simply £2 on 
 the day to cover the cost of your tea/coffee. Please remember to brin
 g business cards and leaflets to display on the table for others to pi
 ck up. Don’t forget to bring your smile too!\nCOST: Free to attend -
  just pay £2 for tea or coffee\nBOOKING: No need to book - just turn 
 up!\nMAP\nDIRECTIONS\n \n\n\nFor more information visit https://netwo
 rkinginsurrey.co.uk/events/ladies-who-latte-morning-farnham
DTSTART;TZID=Europe/London:20151029T100000
DTEND;TZID=Europe/London:20151029T120000
CATEGORIES:free, morning, women
LOCATION:Farnham Golf Club
WEBSITE:https://www.google.co.uk/maps/place/Farnham+Golf+Club+%28The+S
 ands%29/@51.2148763,-0.7386895,15z/data=!4m2!3m1!1s0x0:0x7a5bfdb8af12b
 cf4
URL:https://www.google.co.uk/maps/place/Farnham+Golf+Club+%28The+Sands
 %29/@51.2148763,-0.7386895,15z/data=!4m2!3m1!1s0x0:0x7a5bfdb8af12bcf4
CONTACT:0816847775
ORGANIZER;CN="Katie Shorrock":https://networkinginsurrey.co.uk/profile
 /KatieShorrock
ATTACH;FMTTYPE="image/jpeg":http://storage.ning.com/topology/rest/1.0/
 file/get/2591393568?profile=original
ATTENDEE;ROLE=REQ-PARTICIPANT;PARTSTAT=ACCEPTED;RSVP=TRUE;CN="Katie Sh
 orrock":https://networkinginsurrey.co.uk/profile/KatieShorrock
ATTENDEE;ROLE=REQ-PARTICIPANT;PARTSTAT=ACCEPTED;RSVP=TRUE;CN="Louise T
 ester":https://networkinginsurrey.co.uk/profile/LouiseTester
END:VEVENT
END:VCALENDAR
