BEGIN:VCALENDAR
PRODID:NingEventWidget-v1
VERSION:2.0
METHOD:PUBLISH
BEGIN:VTIMEZONE
TZID:Europe/London
X-LIC-LOCATION:Europe/London
BEGIN:DAYLIGHT
TZOFFSETFROM:+0000
TZOFFSETTO:+0100
TZNAME:BST
DTSTART:19700329T010000
RRULE:FREQ=YEARLY;BYMONTH=3;BYDAY=-1SU
END:DAYLIGHT
BEGIN:STANDARD
TZOFFSETFROM:+0100
TZOFFSETTO:+0000
TZNAME:GMT
DTSTART:19701025T020000
RRULE:FREQ=YEARLY;BYMONTH=10;BYDAY=-1SU
END:STANDARD
END:VTIMEZONE
BEGIN:VEVENT
UID:4626108:Event:1503
DTSTAMP:20260426T022014Z
SUMMARY:Ladies Who Latte Morning, Farnham
DESCRIPTION:Ladies Who Latte Morning at Farnham Golf Club\n\nLadies Wh
 o Latte in Farnham is a group of dynamic and fun business women who me
 et to exchange ideas and make positive business connections. Meetings 
 take place on the last Thursday of every month and there are no member
 ship fees; just £1 to cover the cost of tea/coffee. The meeting start
 s with open networking followed by a facilitated session of one-minute
  presentations to the rest of the group.\nCOST: FREE (£1 for coffee -
  doesn't have to be latte!)\nMAP\nDIRECTIONS\nVENUE\n-----------------
 --------\nThe Farnham event is hosted by NiS Member Elaine Hickmott of
  Topaz Smile\n\nFor more information visit https://networkinginsurrey.
 co.uk/events/ladies-who-latte-morning-1
DTSTART;TZID=Europe/London:20100429T100000
DTEND;TZID=Europe/London:20100429T113000
CATEGORIES:morning, free, women, ladies_who_latte
LOCATION:Farnham Golf Club, Farnham GU10 1PX
WEBSITE:
URL:
CONTACT:07880 521406
ORGANIZER:Elaine Hickmott
ATTACH;FMTTYPE="image/jpeg":http://storage.ning.com/topology/rest/1.0/
 file/get/2591379879?profile=original
END:VEVENT
END:VCALENDAR
