BEGIN:VCALENDAR
PRODID:NingEventWidget-v1
VERSION:2.0
METHOD:PUBLISH
BEGIN:VTIMEZONE
TZID:Europe/London
X-LIC-LOCATION:Europe/London
BEGIN:DAYLIGHT
TZOFFSETFROM:+0000
TZOFFSETTO:+0100
TZNAME:BST
DTSTART:19700329T010000
RRULE:FREQ=YEARLY;BYMONTH=3;BYDAY=-1SU
END:DAYLIGHT
BEGIN:STANDARD
TZOFFSETFROM:+0100
TZOFFSETTO:+0000
TZNAME:GMT
DTSTART:19701025T020000
RRULE:FREQ=YEARLY;BYMONTH=10;BYDAY=-1SU
END:STANDARD
END:VTIMEZONE
BEGIN:VEVENT
UID:4626108:Event:38828
DTSTAMP:20260421T064506Z
SUMMARY:Ladies Who Latte Mroning Christmas Meet-up, Wallington
DESCRIPTION:Ladies Who Latte Christmas Special Morning at The Grange\n
 \nLadies Who Latte Joint Christmas Meeting for all London/Surrey based
  LWL Groups. Come and meet lots of new and old friends...\nCOST: There
  is a £5 charge for food & drink by the venue - and the networking is
  free!\nMAP\n---------------------------------\nLadies Who Latte is a 
 business networking group with the aim of putting women in business in
  contact with each other for their mutual benefit. \nUnlike many othe
 r networking groups we will never tie you in with high joining fees or
  long-term commitments; simply come along, chat and network, listen to
  our speakers, network some more if you like, then go back to work!  
 All it costs you is your time and your coffee...\n \n\nFor more infor
 mation visit https://networkinginsurrey.co.uk/events/ladies-who-latte-
 joint-christmas-meeting
DTSTART;TZID=Europe/London:20111206T100000
DTEND;TZID=Europe/London:20111206T123000
CATEGORIES:free, morning, ladies_who_latte, wallington
LOCATION:The Grange SM6 7BT
WEBSITE:
URL:
CONTACT:
ORGANIZER;CN="Chris Carter":https://networkinginsurrey.co.uk/profile/C
 hrisCarter
ATTACH;FMTTYPE="image/jpeg":http://storage.ning.com/topology/rest/1.0/
 file/get/2591396399?profile=original
ATTENDEE;ROLE=REQ-PARTICIPANT;PARTSTAT=ACCEPTED;RSVP=TRUE;CN="Chris Ca
 rter":https://networkinginsurrey.co.uk/profile/ChrisCarter
END:VEVENT
END:VCALENDAR
