BEGIN:VCALENDAR
PRODID:NingEventWidget-v1
VERSION:2.0
METHOD:PUBLISH
BEGIN:VTIMEZONE
TZID:Europe/London
X-LIC-LOCATION:Europe/London
BEGIN:DAYLIGHT
TZOFFSETFROM:+0000
TZOFFSETTO:+0100
TZNAME:BST
DTSTART:19700329T010000
RRULE:FREQ=YEARLY;BYMONTH=3;BYDAY=-1SU
END:DAYLIGHT
BEGIN:STANDARD
TZOFFSETFROM:+0100
TZOFFSETTO:+0000
TZNAME:GMT
DTSTART:19701025T020000
RRULE:FREQ=YEARLY;BYMONTH=10;BYDAY=-1SU
END:STANDARD
END:VTIMEZONE
BEGIN:VEVENT
UID:4626108:Event:530260
DTSTAMP:20260424T212921Z
SUMMARY:Ladies Who Latte Farnham Morning Free - LIve!
DESCRIPTION:Ladies Who Latte Farnham\n\nPRE-BOOKING ESSENTIAL PLEASE\n
 We are a friendly and very supportive Ladies Who Latte group who  mee
 t at the Hogs Back Hotel for coffee and a chat on the last Thursday of
  the month. \nThe idea is that you meet and form business relationshi
 ps with like-minded people. There are no limits to who can attend, lad
 ies from any business or organisation type.\nEveryone has a minute to 
 introduce themselves and their business and there are no membership fe
 es, just £5 to pay for tea or coffee.\nDon’t forget to bring your s
 mile too!\nBooking is essential, please https://www.eventbrite.co.uk/e
 /209349077727\nCOST: £5 via Eventbrite (for catering)\nBOOKING: Pleas
 e  to book https://www.eventbrite.co.uk/e/209349077727 \nMAP\n\n\nFo
 r more information visit https://networkinginsurrey.co.uk/events/ladie
 s-who-latte-farnham-morning-free-live-1
DTSTART;TZID=Europe/London:20211125T100000
DTEND;TZID=Europe/London:20211125T113000
CATEGORIES:morning, women, networking, farnham
LOCATION:Hog's Back Hotel and Spa, Farnham GU10 1EX
WEBSITE:https://www.google.co.uk/maps/@51.226293,-0.7246604,17z?hl=en
URL:https://www.google.co.uk/maps/@51.226293,-0.7246604,17z?hl=en
CONTACT:07816847775
ORGANIZER;CN="Katie Shorrock":https://networkinginsurrey.co.uk/profile
 /KatieShorrock
ATTACH;FMTTYPE="image/jpeg":https://storage.ning.com/topology/rest/1.0
 /file/get/9296748290?profile=original
ATTENDEE;ROLE=REQ-PARTICIPANT;PARTSTAT=ACCEPTED;RSVP=TRUE;CN="Katie Sh
 orrock":https://networkinginsurrey.co.uk/profile/KatieShorrock
END:VEVENT
END:VCALENDAR
