BEGIN:VCALENDAR
PRODID:NingEventWidget-v1
VERSION:2.0
METHOD:PUBLISH
BEGIN:VTIMEZONE
TZID:Europe/London
X-LIC-LOCATION:Europe/London
BEGIN:DAYLIGHT
TZOFFSETFROM:+0000
TZOFFSETTO:+0100
TZNAME:BST
DTSTART:19700329T010000
RRULE:FREQ=YEARLY;BYMONTH=3;BYDAY=-1SU
END:DAYLIGHT
BEGIN:STANDARD
TZOFFSETFROM:+0100
TZOFFSETTO:+0000
TZNAME:GMT
DTSTART:19701025T020000
RRULE:FREQ=YEARLY;BYMONTH=10;BYDAY=-1SU
END:STANDARD
END:VTIMEZONE
BEGIN:VEVENT
UID:4626108:Event:5705
DTSTAMP:20260423T171532Z
SUMMARY:Ladies at 11 Woking
DESCRIPTION:\nLadies at 11 is a networking company for women who are s
 erious about growing their business.\nWe are a dynamic group of busine
 ss women who meet on a monthly basis to exchange business and to grow 
 our businesses. When you experience good service or buy a good product
  you tell your friends and spread the word, this is networking in its 
 simplest form. And business networking is very similar, if you like so
 mething you talk about it, you spread the word. It’s widely known 80
 % of business is passed through word of mouth and referrals. Everyone 
 has a group of people around them, their friends, their family, their 
 business contacts and these people all want to buy services from trust
 ed suppliers.\nGrowing your business through business exchange is a tw
 o-way process, by giving to others you and your business will ultimate
 ly benefit. This is not only in regards to specific business referrals
  it’s also about creating a support system of advice, help, friendsh
 ip, also to gain confidence and self-belief as we become even more suc
 cessful. Ladies at 11 does not limit any one trade or industry to our 
 meetings, we recognise that people buy from people and that choice is 
 important. We are all attracted to different people for different reas
 ons. We strongly believe that there is enough business for everyone.\n
 COST: £10 for non members (includes VAT) free for members\nCLICK HERE
  TO BOOK\nMAP Go through the Station from the West Byfleet side and ou
 t onto the green.\n-----------------------\nLadies at 11 is run by NiS
  Member Sarah Martin. At Ladies at 11 we mean business, we meet at 11a
 m promptly, we network, we have structured focused meetings and we pas
 s business contacts and recommendations. We build strategic alliances 
 across a range of industries; we develop working relationships and imp
 ortantly friendship and support. We are a dynamic and energetic group 
 of women all striving for success.\n\nFor more information visit https
 ://networkinginsurrey.co.uk/events/ladies-at-11-woking-1
DTSTART;TZID=Europe/London:20101125T110000
DTEND;TZID=Europe/London:20101125T130000
CATEGORIES:networking, women, ladies_at_11, morning
LOCATION:The Catherine of Aragon (formerly The Claremont)
WEBSITE:http://thecatherineofaragon.co.uk/
URL:http://thecatherineofaragon.co.uk/
CONTACT:07855 465 202
ORGANIZER;CN="Sarah Martin":https://networkinginsurrey.co.uk/profile/S
 arahMartin
ATTACH;FMTTYPE="image/jpeg":http://storage.ning.com/topology/rest/1.0/
 file/get/2470848694?profile=original
ATTENDEE;ROLE=REQ-PARTICIPANT;PARTSTAT=ACCEPTED;RSVP=TRUE;CN="Sarah Ma
 rtin":https://networkinginsurrey.co.uk/profile/SarahMartin
END:VEVENT
END:VCALENDAR
