BEGIN:VCALENDAR
PRODID:NingEventWidget-v1
VERSION:2.0
METHOD:PUBLISH
BEGIN:VTIMEZONE
TZID:Europe/London
X-LIC-LOCATION:Europe/London
BEGIN:DAYLIGHT
TZOFFSETFROM:+0000
TZOFFSETTO:+0100
TZNAME:BST
DTSTART:19700329T010000
RRULE:FREQ=YEARLY;BYMONTH=3;BYDAY=-1SU
END:DAYLIGHT
BEGIN:STANDARD
TZOFFSETFROM:+0100
TZOFFSETTO:+0000
TZNAME:GMT
DTSTART:19701025T020000
RRULE:FREQ=YEARLY;BYMONTH=10;BYDAY=-1SU
END:STANDARD
END:VTIMEZONE
BEGIN:VEVENT
UID:4626108:Event:4477
DTSTAMP:20260424T184931Z
SUMMARY:Ladies at 11 Plus One Morning, Weybridge
DESCRIPTION:Mixed Networking at Locker 27, Brooklands\n\nThis ia a mix
 ed event for men and women\nAt Ladies at 11 we are passionate about su
 pporting local businesses hence the reason we run networking events. W
 e have wanted to do more to support local businesses and have decided 
 to launch the following initiative.\nWe are now offering local busines
 ses the opportunity to sponsor an event; there is the option to either
  host an event or contribute towards the refreshments at the event. Wi
 th both options the sponsor has the opportunity to do a short presenta
 tion to our attendees. To kick start this new initiative off Locker 27
  a new Athletic Development Centre located at The Storage Pod (there i
 s lots of free parking right outside) in Brooklands will be the first 
 to host our Ladies at 11 Plus One events. So, if you would like to mee
 t like-minded individuals who are dynamic and inspirational then come 
 along and experience one of our fantastic events.\nCOST: Non-Members: 
 £15 Members: £10 (Includes refreshments)\nCLICK HERE TO BOOK\nMAP\n-
 ----------------------\nLadies at 11 is run by NiS Member Sarah Martin
 . Most of Sarah's events are exclusively for women but occasional even
 ts like this one are for men too...\n\nFor more information visit http
 s://networkinginsurrey.co.uk/events/ladies-at-11-plus-one-morning
DTSTART;TZID=Europe/London:20101105T110000
DTEND;TZID=Europe/London:20101105T130000
CATEGORIES:morning, business_networking_surrey, ladies_at_eleven
LOCATION:Locker 27 at the Storage Pod KT13 0YF
WEBSITE:http://www.locker27.com
URL:http://www.locker27.com
CONTACT:07855 465 202
ORGANIZER;CN="Sarah Martin":https://networkinginsurrey.co.uk/profile/S
 arahMartin
ATTACH;FMTTYPE="image/jpeg":http://storage.ning.com/topology/rest/1.0/
 file/get/2470848694?profile=original
ATTENDEE;ROLE=REQ-PARTICIPANT;PARTSTAT=ACCEPTED;RSVP=TRUE;CN="Alan Rog
 ers":https://networkinginsurrey.co.uk/profile/DreamGeniusLtd
ATTENDEE;ROLE=REQ-PARTICIPANT;PARTSTAT=ACCEPTED;RSVP=TRUE;CN="Sarah Ma
 rtin":https://networkinginsurrey.co.uk/profile/SarahMartin
ATTENDEE;ROLE=REQ-PARTICIPANT;PARTSTAT=TENTATIVE;RSVP=TRUE;CN="Annie H
 eggie":https://networkinginsurrey.co.uk/profile/Annie
END:VEVENT
END:VCALENDAR
