BEGIN:VCALENDAR
PRODID:NingEventWidget-v1
VERSION:2.0
METHOD:PUBLISH
BEGIN:VTIMEZONE
TZID:Europe/London
X-LIC-LOCATION:Europe/London
BEGIN:DAYLIGHT
TZOFFSETFROM:+0000
TZOFFSETTO:+0100
TZNAME:BST
DTSTART:19700329T010000
RRULE:FREQ=YEARLY;BYMONTH=3;BYDAY=-1SU
END:DAYLIGHT
BEGIN:STANDARD
TZOFFSETFROM:+0100
TZOFFSETTO:+0000
TZNAME:GMT
DTSTART:19701025T020000
RRULE:FREQ=YEARLY;BYMONTH=10;BYDAY=-1SU
END:STANDARD
END:VTIMEZONE
BEGIN:VEVENT
UID:4626108:Event:6630
DTSTAMP:20260422T121129Z
SUMMARY:Ladies at 11 Plus One Morning, Cobham
DESCRIPTION:\nLadies at 11 Plus One Morning at Silvermere \n\nWould y
 ou like to meet like-minded individuals who are dynamic and inspiratio
 nal?\nThen come along and experience one of our fantastic events with 
 over 40 local business men and women attending.\nWe always receive lo
 ts of really positive feedback which is why we keep running  these mi
 xed events. There will be speed networking plus other networking form
 ats, guaranteeing you make great connections and have an enjoyable tim
 e. Please forward to others in your network who might benefit from th
 is event.\n\nCOST: Non-Members: £15 Members: £10 (Includes refreshme
 nts)\nCLICK HERE TO BOOK\n\nMAP\n\n \"That was a great networking eve
 nt today Sarah - thank you for organising it. I had some great convers
 ations & met some lovely business people.\" Lindsey Collumbell, Bojang
 le Communications\n\"As an honorary Ladies at 11 member today, I was d
 elighted to find a networking group that fits my personality comfortab
 ly . It was dynamic, relaxed but focussed, too short and hopefully pro
 ductive. It is, without doubt, the single most effective networking ev
 ent I've been to so far.\" Alan Rogers, Dream Genius\n\n--------------
 ---------\nLadies at 11 is run by NiS Member Sarah Martin. Most of Sar
 ah's events are exclusively for women but occasional events like this 
 one are for men too...\n\nFor more information visit https://networkin
 ginsurrey.co.uk/events/ladies-at-11-plus-one-morning-1
DTSTART;TZID=Europe/London:20110128T110000
DTEND;TZID=Europe/London:20110128T130000
CATEGORIES:morning, business_networking_surrey, ladies_at_eleven
LOCATION:The Inn on the Lake, Silvermere KT11 1EF
WEBSITE:http://www.innonthelakesurrey.co.uk/
URL:http://www.innonthelakesurrey.co.uk/
CONTACT:
ORGANIZER:Sarah Martin
ATTACH;FMTTYPE="image/jpeg":http://storage.ning.com/topology/rest/1.0/
 file/get/2591390197?profile=original
ATTENDEE;ROLE=REQ-PARTICIPANT;PARTSTAT=ACCEPTED;RSVP=TRUE;CN="Keith Gr
 over, NiS Founder":https://networkinginsurrey.co.uk/profile/KeithGrove
 r
END:VEVENT
END:VCALENDAR
