BEGIN:VCALENDAR
PRODID:NingEventWidget-v1
VERSION:2.0
METHOD:PUBLISH
BEGIN:VTIMEZONE
TZID:Europe/London
X-LIC-LOCATION:Europe/London
BEGIN:DAYLIGHT
TZOFFSETFROM:+0000
TZOFFSETTO:+0100
TZNAME:BST
DTSTART:19700329T010000
RRULE:FREQ=YEARLY;BYMONTH=3;BYDAY=-1SU
END:DAYLIGHT
BEGIN:STANDARD
TZOFFSETFROM:+0100
TZOFFSETTO:+0000
TZNAME:GMT
DTSTART:19701025T020000
RRULE:FREQ=YEARLY;BYMONTH=10;BYDAY=-1SU
END:STANDARD
END:VTIMEZONE
BEGIN:VEVENT
UID:4626108:Event:3146
DTSTAMP:20260425T132025Z
SUMMARY:Ladies at 11 Plus One Mixed Networking Morning, Brooklands
DESCRIPTION:Ladies at 11 Plus One - Mixed Networking for Men and Ladie
 s in Business\n\nWould you like to meet new business contacts in Weybr
 idge’s new number 1 hot spot? Sample the delights of this stunning b
 rand new luxury boutique hotel at the heart of the historic Brooklands
  racetrack, next to Mercedes Benz World and Brooklands Musem.\nIts new
  luxorious meeting rooms combined with ample parking and delicious cof
 fee, make this an opportunity not to be missed. Make sure you bring yo
 ur business cards and any promotional material.\nThe event will open w
 ith an ice breaker session, followed by networking and speed networkin
 g to ensure you get to meet as many people as possible and leave feeli
 ng that you’ve had a successful and productive few hours.\nCOST: £1
 0 for Ladies at 11 members, £20 for Non members (includes VAT)\nMembe
 r offer: Bring a guest and pay just £5 or bring 2 guest and come for 
 free!\nBOOK HERE\nVENUE\nMAP & DIRECTIONS - follow the signs to Merced
 es Benz World which is right next door!\nPROMOTE YOUR BUSINESS: If you
  would like the opportunity to present your business / products for al
 l our attendees to see and sample why not purchase a promotional table
  for just £15 for members and £25 for non members. These are limited
  so please book early to avoid missing out.\nBrooklands Hotel Offer\nF
 ollowing the event you can stay on for any 50-minute treatment and use
  the spa facilities complimentary (save £25) or 2x 25 minute services
  and use the spa facilities (save £25) To book contact Brooklands Hot
 el Spa 01932 335 700\n-----------------------------------------\nLadie
 s at 11 is run by NiS Member Sarah Martin. At Ladies at 11 we mean bus
 iness, we meet at 11am promptly, we network, we have structured focuse
 d meetings and we pass business contacts and recommendations. We build
  strategic alliances across a range of industries; we develop working 
 relationships and importantly friendship and support. We are a dynamic
  and energetic group of women all striving for success.\n\nFor more in
 formation visit https://networkinginsurrey.co.uk/events/ladies-at-11-p
 lus-one-mixed
DTSTART;TZID=Europe/London:20100723T110000
DTEND;TZID=Europe/London:20100723T130000
CATEGORIES:morning, business_networking, weybridge, ladies_at_eleven
LOCATION:Brooklands Hotel ,Weybridge KT13 0SL
WEBSITE:http://www.brooklandshotelsurrey.com/contact-location/index.ht
 m
URL:http://www.brooklandshotelsurrey.com/contact-location/index.htm
CONTACT:07855 465 202
ORGANIZER:Sarah Martin
ATTACH;FMTTYPE="image/jpeg":http://storage.ning.com/topology/rest/1.0/
 file/get/2470848694?profile=original
ATTENDEE;ROLE=REQ-PARTICIPANT;PARTSTAT=ACCEPTED;RSVP=TRUE;CN="Rosemary
  Hemmett":https://networkinginsurrey.co.uk/profile/RosemaryHemmett
ATTENDEE;ROLE=REQ-PARTICIPANT;PARTSTAT=ACCEPTED;RSVP=TRUE;CN="Lindsey 
 Collumbell":https://networkinginsurrey.co.uk/profile/LindseyCollumbell
ATTENDEE;ROLE=REQ-PARTICIPANT;PARTSTAT=ACCEPTED;RSVP=TRUE;CN="Shirley 
 Barton-Gunning":https://networkinginsurrey.co.uk/profile/ShirleyBarton
 Gunning
ATTENDEE;ROLE=REQ-PARTICIPANT;PARTSTAT=TENTATIVE;RSVP=TRUE;CN="Keith G
 rover, NiS Founder":https://networkinginsurrey.co.uk/profile/KeithGrov
 er
END:VEVENT
END:VCALENDAR
